BEGIN:VCALENDAR
VERSION:2.0
PRODID:icalendar-ruby
CALSCALE:GREGORIAN
BEGIN:VEVENT
DTSTAMP:20260423T220709Z
UID:ZS9bXA
DTSTART:20240927T180000
DTEND:20240929T183000
CLASS:PUBLIC
CREATED:20240806T172330
DESCRIPTION: 🌟 Join the Revolution in Foster Care! 🌟 \n\n We’re on 
 a mission to transform foster care by reaching out to a new wave of foster
  families driven by humanitarian values. These families will provide tempo
 rary homes for children in need\, ensuring they experience the love and st
 ability of a family environment. Our goal is to revolutionize policies and
  practices to enhance the quality of life for every child. \n\n 🚀 Why N
 ow? 🚀 It’s crucial to create the right conditions so that every child
  who needs fostering finds a loving family. \n\n 🤝 Partner with Us and 
 AIPAR! 🤝 AIPAR\, Associação de Proteção à Rapariga e à Família\,
  has been a beacon for help in Faro\, Portugal since 1988. They support yo
 ung girls and families\, especially those facing violence or abandonment. 
 AIPAR offers shelters\, leisure activities\, and hosts seminars to empower
  and protect everyone\, regardless of their background. \n\n 💡 Your Cha
 llenge: 💡 \n\n How can we improve foster care?\nHow can we reach more f
 amily environments?\nAre there tech or non-tech solutions that can mobiliz
 e communities?\nJoin us in making a difference! Let’s brainstorm\, innov
 ate\, and create a brighter future for children in need. 🌈 \n\n You can
  check all details and the full schedule here! \n\n Kindly sponsored by: \
 n\n \n Brasfone \n Contentserv \n Flow Productions \n \n
LAST-MODIFIED:20260201T192253
LOCATION:UALG TEC CAMPUS
ORGANIZER:mailto:info@local.foundation
SUMMARY:Impact Hackers
URL;VALUE=URI:https://ti.to/geeksessions/impact-hackers
URL;VALUE=URI:https://ti.to/geeksessions/impact-hackers
END:VEVENT
END:VCALENDAR
