BEGIN:VCALENDAR
VERSION:2.0
PRODID:icalendar-ruby
CALSCALE:GREGORIAN
BEGIN:VEVENT
DTSTAMP:20260424T002217Z
UID:etudnQ
DTSTART;VALUE=DATE:20190406
DTEND;VALUE=DATE:20190407
CLASS:PUBLIC
CREATED:20190317T232736
DESCRIPTION: In this workshop you will learn how to build powerful Native a
 pps using Flutter \n
LAST-MODIFIED:20191002T191035
LOCATION:
ORGANIZER:mailto:gdgleiria@gmail.com
SUMMARY:[Collab Flutter Portugal] Workshop Flutter
URL;VALUE=URI:https://ti.to/gdg-leiria/workshop-flutter
URL;VALUE=URI:https://ti.to/gdg-leiria/workshop-flutter
END:VEVENT
END:VCALENDAR
