BEGIN:VCALENDAR
VERSION:2.0
PRODID:icalendar-ruby
CALSCALE:GREGORIAN
BEGIN:VEVENT
DTSTAMP:20260422T085533Z
UID:BeKhcA
DTSTART;VALUE=DATE:20170926
DTEND;VALUE=DATE:20170927
CLASS:PUBLIC
CREATED:20170728T205908
DESCRIPTION: PRESENTED BY: \n\n Starter Space &amp\; Gainesville Tech \n\n 
 HOSTED BY:  \n\n   \n\n Startup Talks is designed to inspire\, guide and c
 onnect the tech startup community in Gainesville. It is an opportunity to 
 hear from and engage with a group of founders who will share their journey
 \, successes and also their failures\, tying together the lessons learned.
  \n
LAST-MODIFIED:20171105T000945
LOCATION:Infinity Hall
ORGANIZER:mailto:hello@gainesvilletech.org
SUMMARY:Geoff Wilson & Mitch Glaeser | Startup Talks
URL;VALUE=URI:https://ti.to/gainesville-tech/startup-talks-geoff-wilson
URL;VALUE=URI:https://ti.to/gainesville-tech/startup-talks-geoff-wilson
END:VEVENT
BEGIN:VEVENT
DTSTAMP:20260422T085533Z
UID:BeKhcA1017513
DTSTART:20170926T170000
DTEND:20170926T180000
CLASS:PUBLIC
CREATED:20170728T205910
DESCRIPTION:Here's your chance to sit with our speaker and moderator and as
 k the business questions that are keeping you up at night.
LAST-MODIFIED:20171122T090409
ORGANIZER:mailto:hello@gainesvilletech.org
SUMMARY:[Geoff Wilson & Mitch Glaeser | Startup Talks] Ask the Speaker/Mode
 rator
URL;VALUE=URI:https://ti.to/gainesville-tech/startup-talks-geoff-wilson
X-ALT-DESC;FMTTYPE=text/html:Here's your chance to sit with our speaker and
  moderator and ask the business questions that are keeping you up at night
 .
URL;VALUE=URI:https://ti.to/gainesville-tech/startup-talks-geoff-wilson
END:VEVENT
BEGIN:VEVENT
DTSTAMP:20260422T085533Z
UID:BeKhcA1017514
DTSTART:20170926T180000
DTEND:20170926T181000
CLASS:PUBLIC
CREATED:20170728T205910
LAST-MODIFIED:20171122T090409
ORGANIZER:mailto:hello@gainesvilletech.org
SUMMARY:[Geoff Wilson & Mitch Glaeser | Startup Talks] Welcome Address
URL;VALUE=URI:https://ti.to/gainesville-tech/startup-talks-geoff-wilson
URL;VALUE=URI:https://ti.to/gainesville-tech/startup-talks-geoff-wilson
END:VEVENT
BEGIN:VEVENT
DTSTAMP:20260422T085533Z
UID:BeKhcA1017515
DTSTART:20170926T181000
DTEND:20170926T191000
CLASS:PUBLIC
CREATED:20170728T205910
LAST-MODIFIED:20171122T090409
ORGANIZER:mailto:hello@gainesvilletech.org
SUMMARY:[Geoff Wilson & Mitch Glaeser | Startup Talks] Fireside Chat with G
 eoff Wilson and Mitch Glaeser
URL;VALUE=URI:https://ti.to/gainesville-tech/startup-talks-geoff-wilson
URL;VALUE=URI:https://ti.to/gainesville-tech/startup-talks-geoff-wilson
END:VEVENT
BEGIN:VEVENT
DTSTAMP:20260422T085533Z
UID:BeKhcA1017516
DTSTART:20170926T191000
DTEND:20170926T191500
CLASS:PUBLIC
CREATED:20170728T205910
LAST-MODIFIED:20171122T090409
ORGANIZER:mailto:hello@gainesvilletech.org
SUMMARY:[Geoff Wilson & Mitch Glaeser | Startup Talks] Wrap Up
URL;VALUE=URI:https://ti.to/gainesville-tech/startup-talks-geoff-wilson
URL;VALUE=URI:https://ti.to/gainesville-tech/startup-talks-geoff-wilson
END:VEVENT
BEGIN:VEVENT
DTSTAMP:20260422T085533Z
UID:BeKhcA1017517
DTSTART:20170926T191500
DTEND:20170926T203000
CLASS:PUBLIC
CREATED:20170728T205910
DESCRIPTION:After the Fireside Chat is your opportunity to mix and mingle w
 ith other Startup Founders.
LAST-MODIFIED:20171122T090409
ORGANIZER:mailto:hello@gainesvilletech.org
SUMMARY:[Geoff Wilson & Mitch Glaeser | Startup Talks] Mix\, Mingle & Netwo
 rking with Startup Founders
URL;VALUE=URI:https://ti.to/gainesville-tech/startup-talks-geoff-wilson
X-ALT-DESC;FMTTYPE=text/html:After the Fireside Chat is your opportunity to
  mix and mingle with other Startup Founders.
URL;VALUE=URI:https://ti.to/gainesville-tech/startup-talks-geoff-wilson
END:VEVENT
END:VCALENDAR
