BEGIN:VCALENDAR
VERSION:2.0
PRODID:icalendar-ruby
CALSCALE:GREGORIAN
BEGIN:VEVENT
DTSTAMP:20260419T125609Z
UID:S4dddw
DTSTART;VALUE=DATE:20170411
DTEND;VALUE=DATE:20170412
CLASS:PUBLIC
CREATED:20170406T220557
DESCRIPTION: PRESENTED BY: \n\n Starter Space &amp\; Gainesville Tech \n\n 
 HOSTED BY:  \n\n   \n\n Startup Talks is designed to inspire\, guide and c
 onnect the tech startup community in Gainesville. It is an opportunity to 
 hear from and engage with a group of founders who will share their journey
 \, successes and also their failures\, tying together the lessons learned.
  \n
LAST-MODIFIED:20170509T152258
LOCATION:Infinity Hall
ORGANIZER:mailto:hello@gainesvilletech.org
SUMMARY:Mitch Glaeser & Abhi Lokesh | Startup Talks
URL;VALUE=URI:https://ti.to/gainesville-tech/startup-talks-abhi-lokesh
URL;VALUE=URI:https://ti.to/gainesville-tech/startup-talks-abhi-lokesh
END:VEVENT
END:VCALENDAR
