BEGIN:VCALENDAR
VERSION:2.0
PRODID:icalendar-ruby
CALSCALE:GREGORIAN
BEGIN:VEVENT
DTSTAMP:20260424T163551Z
UID:Kd41IA
DTSTART:20260321T103000
DTEND:20260322T170000
CLASS:PUBLIC
CREATED:20250828T151819
DESCRIPTION: Discover the Future of Beauty and Wellness \n\n Join us at the
  6th annual Future Beauty Show at the RDS—a weekend event dedicated to a
 esthetic innovation\, smart aging\, and health optimization. Connect with 
 leading medical practitioners\, scientists\, and health experts\, and expl
 ore cutting-edge treatments\, products\, and technologies through live dem
 os\, expert panels\, and interactive experiences. \n\n From safe and effec
 tive solutions to those worth avoiding\, this event empowers you with the 
 knowledge to make informed decisions about your health and beauty. Take pa
 rt in mini treatments\, test new tech\, and enjoy a fun day out with frien
 ds at our central bar and food hubs. \n\n Led by experts across fields lik
 e dermatology\, gynecology\, endocrinology\, and longevity\, Future Beauty
  Show is more than just an event—it’s a movement to educate and empowe
 r women about the best in clinical beauty and wellness. \n
LAST-MODIFIED:20260223T163943
LOCATION:RDS\, Dublin 4\, Main Hall
ORGANIZER:mailto:liz@futurebeautyshow.com
SUMMARY:Future Beauty & Health 2026
URL;VALUE=URI:https://ti.to/future-beauty/future-beauty-show-2026
URL;VALUE=URI:https://ti.to/future-beauty/future-beauty-show-2026
END:VEVENT
END:VCALENDAR
