BEGIN:VCALENDAR
VERSION:2.0
PRODID:icalendar-ruby
CALSCALE:GREGORIAN
BEGIN:VEVENT
DTSTAMP:20260423T222900Z
UID:PPmVsg
DTSTART;VALUE=DATE:20191101
DTEND;VALUE=DATE:20191104
CLASS:PUBLIC
CREATED:20190423T154440
DESCRIPTION: Now in its 8th generation\, Fuse is partnering with  WSUTC in 
 this 52-hour competition to "take to market" new ideas and businesses.  \n
 \n Teams will form around selected ideas\, business modeling\, testing\, b
 uilding\, pitching takes place within a single weekend. No previous skills
  or experience necessary\, you just gotta be crazy enough to join the fun!
  \n\n Top 3 teams will have a shot at bringing to market their ideas throu
 gh professional support and cash incentives. The only question is...WHAT W
 ILL YOU LAUNCH? \n\n Launch Weekend @ WSUTC\nNovember 1st\, 5PM - 10PM Ope
 ning Night \nNovember 2nd\, 8AM - 10PM Open work time + Mentorship\nNovemb
 er 3rd \, 8AM - 10PM Open work time + Pitch Night \n
LAST-MODIFIED:20220719T163244
LOCATION:WSUTC\, Richland\, WA
ORGANIZER:mailto:info@fusespc.com
SUMMARY:Fuse Launch Weekend 2019
URL;VALUE=URI:https://ti.to/fuse/launchweekend-2019
URL;VALUE=URI:https://ti.to/fuse/launchweekend-2019
END:VEVENT
END:VCALENDAR
