BEGIN:VCALENDAR
VERSION:2.0
PRODID:icalendar-ruby
CALSCALE:GREGORIAN
BEGIN:VEVENT
DTSTAMP:20260423T220617Z
UID:9UmbXQ
DTSTART;VALUE=DATE:20200424
DTEND;VALUE=DATE:20200427
CLASS:PUBLIC
CREATED:20200129T231932
DESCRIPTION: Join us for  Launch Weekend in The Parkway! \n\n Now in it's 8
 th generation\, Fuse is hosting a 52-hour competition to "take to market" 
 new ideas and businesses! Teams will form around selected ideas\, business
  modeling\, testing\, building\, pitching takes place within a single week
 end. No previous skills or experience necessary\, you just gotta be crazy 
 enough to join the fun! \n\n Top 3 teams will have a shot at bringing to m
 arket their ideas through professional support and cash prizes. The only q
 uestion is...WHAT WILL YOU LAUNCH? \n\n Launch Weekend @ Fuse: \n\n April 
 24th\, 5PM - 10PM   \n\n Opening Night \n\n April 25th\, 8AM - 9PM  \n\n O
 pen work time + Mentorship \n\n April 26th \, 8AM - 9PM  \n\n Open work ti
 me + Pitch Night \n
LAST-MODIFIED:20220719T163244
LOCATION:Richland\, Wa
ORGANIZER:mailto:info@fusespc.com
SUMMARY:Launch Weekend 2020
URL;VALUE=URI:https://ti.to/fuse/launch-weekend-2020
URL;VALUE=URI:https://ti.to/fuse/launch-weekend-2020
END:VEVENT
END:VCALENDAR
