BEGIN:VCALENDAR
VERSION:2.0
PRODID:icalendar-ruby
CALSCALE:GREGORIAN
BEGIN:VEVENT
DTSTAMP:20260421T110926Z
UID:YqwE2Q
DTSTART;VALUE=DATE:20161001
DTEND;VALUE=DATE:20161003
CLASS:PUBLIC
CREATED:20160621T081423
LAST-MODIFIED:20160928T120133
LOCATION:Budapest\, Hungary
ORGANIZER:mailto:chris@eidhof.nl
SUMMARY:2016 Edition
URL;VALUE=URI:https://ti.to/functionalswiftconf/2016-edition
URL;VALUE=URI:https://ti.to/functionalswiftconf/2016-edition
END:VEVENT
END:VCALENDAR
