BEGIN:VCALENDAR
VERSION:2.0
PRODID:icalendar-ruby
CALSCALE:GREGORIAN
BEGIN:VEVENT
DTSTAMP:20260423T085144Z
UID:UtizBw
DTSTART;VALUE=DATE:20160504
DTEND;VALUE=DATE:20160507
CLASS:PUBLIC
CREATED:20160317T144048
DESCRIPTION: LIVE FROM SALT LAKE CITY\, UTAH \n\n 8100km has never felt so 
 close. Join the developers at Frantic during the AngularJS Conference live
  from Salt Lake City and spend the better part of Wednesday and Friday to 
 watch the conference. Drinks and food are on us while we watch\, listen an
 d discuss all things Angular.   \n\n If this sounds like your kind of thin
 g then Frantic is the place to be.   \n\n Until then\, come say hello.   \
 n\n The stream schedule will follow https://www.ng-conf.org/#/schedule on 
 Wednesday and Friday. Information regarding Thursday will be made availabl
 e as soon as possible.  \n\n Wednesday event schedule: \n16:00 Doors open 
 \n18:00 Stream begins \n21:00 Lunch break in Utah \n22:30 Stream continues
  \n02:10 Tero Parviainen - Generative Art in Angular 2 \n02:35 Event ends 
    \n\n Thursday TBA   \n\n Friday event schedule: \n17:00 Doors open \n18
 :00 Stream begins \n19:25 Matias Niemelä - Animations \n21:00 Lunch break
  in Utah \n22:30 Stream continues \n02:15 Event ends    \n\n To join the d
 iscussion on slack\, send email to thomas.janhonen@frantic.com and you wil
 l get an invite. Also\, IRC is not dead\, and you can join #frantic-open-s
 pace on freenode. \n
LAST-MODIFIED:20160504T160700
LOCATION:Helsinki\, Finland
ORGANIZER:mailto:thomas.janhonen@frantic.com
SUMMARY:Angular Conference Stream
URL;VALUE=URI:https://ti.to/frc/angular-conference-stream
URL;VALUE=URI:https://ti.to/frc/angular-conference-stream
END:VEVENT
END:VCALENDAR
