BEGIN:VCALENDAR
VERSION:2.0
PRODID:icalendar-ruby
CALSCALE:GREGORIAN
BEGIN:VEVENT
DTSTAMP:20260421T084345Z
UID:DWy5UA
DTSTART;VALUE=DATE:20190302
DTEND;VALUE=DATE:20190303
CLASS:PUBLIC
CREATED:20190125T105643
DESCRIPTION: On Saturday 2nd March 2019 we will host the FIRST EDITION of G
 lobal Diversity CFP Day in Frankfurt following the success of the CFP DAY 
 2018 event where 53 workshops took place worldwide! \n\n In 2019 there wil
 l be numerous workshops hosted around the globe encouraging and advising n
 ewbie speakers to put together your very first talk proposal and share you
 r own individual perspective on any subject of interest to people. \n\n If
  you are a member of an underrepresented or marginalised group in the tech
 -scene and want to become a speaker at tech meetups or conferences\, this 
 workshop is for you! \n\n In this workshop you can get help with writing t
 alk proposals\, applying to CFPs and preparing for stepping on the stage t
 o do your talk. We will have experienced speakers and coaches to encourage
  and help you along the way. \n\n We'll cover topics from "CFP 101" - star
 ting with the basics of what a cfp is\, how to structure and submit - as w
 ell as how to write your bio and how to prepare your presentation and tips
  on public speaking\, too. \n\n This workshop will be hosted by SinnerSchr
 ader at their offices near Ostbahnhof. You can find more information about
  the workshop and location\, e.g. accessibility info on our official works
 hop page. \n\n In case you have any questions please don't hesitate to rea
 ch out to us via Twitter (@emsuiko) or mail (anett@codemonauts.com). See y
 ou soon! :) \n
LAST-MODIFIED:20190216T153023
LOCATION:Frankfurt\, Germany
ORGANIZER:mailto:anett@codemonauts.com
SUMMARY:GLOBAL DIVERSITY CFP DAY FRANKFURT
URL;VALUE=URI:https://ti.to/flxwu/global-diversity-cfp-day-frankfurt
URL;VALUE=URI:https://ti.to/flxwu/global-diversity-cfp-day-frankfurt
END:VEVENT
END:VCALENDAR
