BEGIN:VCALENDAR
VERSION:2.0
PRODID:icalendar-ruby
CALSCALE:GREGORIAN
BEGIN:VTIMEZONE
TZID:Asia/Tokyo
BEGIN:STANDARD
DTSTART:19510909T000000
TZOFFSETFROM:+1000
TZOFFSETTO:+0900
TZNAME:JST
END:STANDARD
END:VTIMEZONE
BEGIN:VEVENT
DTSTAMP:20260421T030548Z
UID:qdHItw
DTSTART;TZID=Asia/Tokyo:20250529T100000
DTEND;TZID=Asia/Tokyo:20250530T210000
CLASS:PUBLIC
CREATED:20241113T175129
DESCRIPTION: The date is May 29th &amp\; 30th 2025. \n\n The ticket contain
 s 2 days of attending right for FlutterNinjas\, lunch for 2 days\, dinner 
 for last night\, and some special gifts. \n\n If you will be selected as a
  speaker\, ticket fee will be returned. \n
LAST-MODIFIED:20250520T164355
LOCATION:Tokyo\, Japan
ORGANIZER:mailto:flutterninjas@kboy.jp
SUMMARY:FlutterNinjas Tokyo 2025
URL;VALUE=URI:https://ti.to/flutterninjas/tokyo-2025
URL;VALUE=URI:https://ti.to/flutterninjas/tokyo-2025
END:VEVENT
END:VCALENDAR
