BEGIN:VCALENDAR
VERSION:2.0
PRODID:icalendar-ruby
CALSCALE:GREGORIAN
BEGIN:VTIMEZONE
TZID:America/New_York
BEGIN:DAYLIGHT
DTSTART:20240310T030000
TZOFFSETFROM:-0500
TZOFFSETTO:-0400
RRULE:FREQ=YEARLY;BYDAY=2SU;BYMONTH=3
TZNAME:EDT
END:DAYLIGHT
BEGIN:STANDARD
DTSTART:20241103T010000
TZOFFSETFROM:-0400
TZOFFSETTO:-0500
RRULE:FREQ=YEARLY;BYDAY=1SU;BYMONTH=11
TZNAME:EST
END:STANDARD
END:VTIMEZONE
BEGIN:VEVENT
DTSTAMP:20260420T142708Z
UID:3RiFZQ
DTSTART;TZID=America/New_York:20240905T080000
DTEND;TZID=America/New_York:20240905T160000
CLASS:PUBLIC
CREATED:20240522T163641
DESCRIPTION: Join us in Charlotte\, NC on Sept 5th at Station West for a da
 y of inspiring talks\, connection\, and growth. \n\n Scholarships are avai
 lable upon request. Please email hello@fleurixconf.com with any inquiries.
  \n\n Full details\, including our open call for speaker applications\, at
  https://www.fleurixconf.com \n\n ----- \n\n Fleurix aims to increase the 
 number of women pursuing and thriving in technology-related careers by con
 necting women with an inspiring community and accessible resources that ca
 n help conquer common barriers to entry\, retention\, and promotion of wom
 en in IT. \n\n + Non-binary folks\, transgender people\, and allies are we
 lcome \n
LAST-MODIFIED:20240908T172205
LOCATION:Station West (Charlotte\, NC)
ORGANIZER:mailto:hello@fleurixconf.com
SUMMARY:Fleurix 2024
URL;VALUE=URI:https://ti.to/fleurix/fleurix-2024
URL;VALUE=URI:https://ti.to/fleurix/fleurix-2024
END:VEVENT
END:VCALENDAR
