BEGIN:VCALENDAR
VERSION:2.0
PRODID:icalendar-ruby
CALSCALE:GREGORIAN
BEGIN:VEVENT
DTSTAMP:20260421T151225Z
UID:5xkp4A
DTSTART;VALUE=DATE:20211201
DTEND;VALUE=DATE:20211205
CLASS:PUBLIC
CREATED:20211102T180846
DESCRIPTION: Flask is the popular web application framework for Python. \n\
 n FlaskCon Online 2021 presents an opportunity to learn about how to use F
 lask for all types of applications big and small\, ask questions\, and joi
 n the community of Flask users around the world. \n\n Talks will be stream
 ed live on YouTube. Live chat and and Q&amp\;A time will happen on Discord
 . \n\n Tickets support Flask\, the Pallets organization\, and the PSF. See
  below for additional info. See you online! \n
LAST-MODIFIED:20250708T212748
LOCATION:Online
ORGANIZER:mailto:accounting@python.org
SUMMARY:FlaskCon Online 2021
URL;VALUE=URI:https://ti.to/flaskcon/flaskcon-2021
URL;VALUE=URI:https://ti.to/flaskcon/flaskcon-2021
END:VEVENT
END:VCALENDAR
