BEGIN:VCALENDAR
VERSION:2.0
PRODID:icalendar-ruby
CALSCALE:GREGORIAN
BEGIN:VEVENT
DTSTAMP:20260421T124313Z
UID:bJOOPw
DTSTART:20260711T123000
DTEND:20260711T220000
CLASS:PUBLIC
CREATED:20260114T161208
DESCRIPTION: HeathFest 2026 – A Day of Music\, Food &amp\; Fun! \n\n 📅
  Date: 11 July 2026\n📍 Location: Carrington Field\, off Lawrence Way\, 
 at the end of Chapel Road\, on the corner with Highlea Avenue\, Flackwell 
 Heath \n\n ⏰ Event Schedule: \n\n \n Gates\, Bar &amp\; Food Open: 12:30
  PM \n Live Music Starts: 1:30 PM \n Event Ends: 10:00 PM \n \n\n 🎶 Abo
 ut HeathFest\nNow in its FIFTH FABULOUS year\, HeathFest is a family-frien
 dly\, open-air music festival featuring six hours of live performances fro
 m talented local artists. Organised by dedicated volunteers from the Flack
 well Heath Residents Association\, this event supports the community\, wit
 h all proceeds reinvested into local projects. \n\n 🍔 Food &amp\; Drink
 \nEnjoy a selection of delicious options\, including a beer tent\, tea ten
 t\, BBQ\, street food stalls\, and a wine &amp\; cocktail van. \n\n 🎡 F
 amily Fun\nThere will be plenty of activities to keep the kids entertained
  throughout the day\, including: \n\n \n Funfair rides \n "Katy Kartwheel'
 s Circus Passion" - an interactive circus skills workshop giving you the c
 hance to learn some fantastic circus skills. \n Roaming circus skills perf
 ormances! \n Silent Disco - pop your headphones on\, choose your music vib
 e\, and shake your tail feather! \n \n\n 🔹 Important Information \n\n \
 n Only alcohol purchased on-site is allowed due to licensing regulations. 
 \n Feel free to bring a picnic\, soft drinks\, chairs\, and rugs. \n Gazeb
 os are permitted for those with designated pitches. \n Be prepared for all
  weather conditions. \n The circus workshop will run for 3 hours from 2pm 
 to 5pm. A ticket for the workshop will provide you with a wristband\, enab
 ling you to drop in and out of the workshop during this period. \n There w
 ill be two sessions of Silent Disco. 5:30pm - 6:30pm and 6:30pm to 7:30pm.
  A ticket for the disco will provide you with a wristband\, enabling you t
 o drop in and out during this period. \n Unfortunately dogs are not permit
 ted. \n Please don't bring alcohol\, glass\, or sharps (including metal cu
 tlery) with you on the day. Bags will be checked on entry to the event. \n
  \n\n Join us for a fantastic day of music\, food\, and community spirit! 
 🎤🎸☀️ \n
LAST-MODIFIED:20260419T160033
LOCATION:Carrington Field\, Flackwell Heath
ORGANIZER:mailto:hello@fhra.co.uk
SUMMARY:Heath Fest 2026
URL;VALUE=URI:https://ti.to/flackwell-heath-residents-association/heath-fes
 t-2026
URL;VALUE=URI:https://ti.to/flackwell-heath-residents-association/heath-fes
 t-2026
END:VEVENT
END:VCALENDAR
