BEGIN:VCALENDAR
VERSION:2.0
PRODID:icalendar-ruby
CALSCALE:GREGORIAN
BEGIN:VEVENT
DTSTAMP:20260421T213945Z
UID:dmd2Hg
DTSTART;VALUE=DATE:20191129
DTEND;VALUE=DATE:20191130
CLASS:PUBLIC
CREATED:20190926T185432
DESCRIPTION: Fission is running a month long series of Decentralized Web Me
 etups all around Europe. \n\n The goal is to bring together both those alr
 eady working on decentralized web topics\, as well as introduce a broad se
 t of developers to what is possible today\, and showcase projects and tech
  tools for developers to use. \n\n In Amsterdam\, we are pleased to have m
 any partners joining us\, including the Blockchain NL Foundation\, the ama
 zing connector Berit Fuss of mistudio\, and our venue sponsors\, Blockchai
 n Village @ Startup Village. \n\n Speakers \n\n IPFS and Fission Live\, Br
 ooklyn Zelenka \n\n Brooklyn Zelenka Brooke will present Fission\, an easy
  way to share content (including serving websites)\, and served directly f
 rom your laptop to the regular internet. Along the way\, you'll learn a bi
 t about how content addressing (via IPFS)\, Decentralized IDs\, and the fu
 ture of serverless computing. \n\n \n\n Decentralized Mapping\, Bèr Kesse
 ls \n\n Maps are a crucial element for many apps and startups. But maps ar
 e hard to make\, expensive and very centralised. Even open source projects
  like Open Street Map are very much centralised\, and therefore easily cen
 sored. As a developer working on decentralised applications\, you'll want 
 to have access to decentralised maps as well. \n\n In this talk\, we'll wa
 lk through the current state of the online mapping tools. And dive into th
 e various projects that make mapping\, data-collection or -contributing fo
 r maps\, decentralised. \n\n Bèr Kessels is founder and developer of Plac
 eBazaar\, one of the projects that aims to decentralise mapping. The place
 bazaar code is mirrored to github on https://github.com/placebazaar/. You 
 can find Bèr and all his social links on keybase https://keybase.io/berke
 s_ \n\n \n\n The future of work: Crowdsourcing using Blockchain\, Chris Da
 we \n\n Chris Dawe is the CEO of Effect.AI\, an open\, democratic &amp\; D
 ecentralized Network for Artificial Intelligence. \n\n \n\n Community Anno
 uncements \n\n We are happy to help promote local community projects and e
 vents! We'll leave room at the event for announcements and sharing. Come p
 repared to get up and speak\, or get in touch if you have other material y
 ou'd like to distribute. \n\n Odyssey - Anna &amp\; Victoria from Odyssey 
 will share about the launch of their 2020 Hackathon\, happening in Groning
 en in April. \n\n Blockstack - Mitchell is new to the Amsterdam area and w
 ill do a brief Blockstack intro and look to connect with everyone locally.
  \n\n \n\n After the short presentations and Q&amp\;A\, we will have have 
 time for networking and getting to know everyone. \n\n Thank you for your 
 support \n\n  \n\n  \n
LAST-MODIFIED:20240328T000730
LOCATION:Amsterdam\, Netherlands
ORGANIZER:mailto:hello@fission.codes
SUMMARY:Decentralized Web Meetup Amsterdam
URL;VALUE=URI:https://ti.to/fission/decentralized-web-meetup-amsterdam
URL;VALUE=URI:https://ti.to/fission/decentralized-web-meetup-amsterdam
END:VEVENT
BEGIN:VEVENT
DTSTAMP:20260421T213945Z
UID:dmd2Hg1029594
DTSTART:20191129T183000
DTEND:20191129T210000
CLASS:PUBLIC
CREATED:20191114T003124
DESCRIPTION:We'll have our talks and Q&A\, then open discussion and network
 ing. Please bring your community announcements\, too!
LAST-MODIFIED:20191114T003124
LOCATION:Startup Village @ Amsterdam Science Park\, Science Park 608\n1098 
 XH Amsterdam
ORGANIZER:mailto:hello@fission.codes
SUMMARY:[Decentralized Web Meetup Amsterdam] Meetup
URL;VALUE=URI:https://ti.to/fission/decentralized-web-meetup-amsterdam
X-ALT-DESC;FMTTYPE=text/html:We'll have our talks and Q&A\, then open discu
 ssion and networking. Please bring your community announcements\, too!
URL;VALUE=URI:https://ti.to/fission/decentralized-web-meetup-amsterdam
END:VEVENT
END:VCALENDAR
