BEGIN:VCALENDAR
VERSION:2.0
PRODID:icalendar-ruby
CALSCALE:GREGORIAN
BEGIN:VEVENT
DTSTAMP:20260423T224533Z
UID:6PkTzg
DTSTART;VALUE=DATE:20231125
DTEND;VALUE=DATE:20231127
CLASS:PUBLIC
CREATED:20231004T155339
DESCRIPTION: Una esperienza di due giorni per conoscere le terre dell'Amaro
 ne e non solo. Avremo l'occasione di assaggiare i prodotti della Valpolice
 lla dai rossi vigorosi con un rapido passaggio nella zona del Soave\, zona
  vocata per i vini spumanti. \n\n Sarà anche l'occasione per visitare i m
 ercatini di Natale di Verona e chiudere in bellezza con un pranzo presso l
 'azienda Masi \n
LAST-MODIFIED:20250829T075454
LOCATION:Verona
ORGANIZER:mailto:info@fisarpisa.it
SUMMARY:Gita nel Soave e nella Valpolicella
URL;VALUE=URI:https://ti.to/fisar-pisa/gita-nel-soave-e-nella-valpolicella
URL;VALUE=URI:https://ti.to/fisar-pisa/gita-nel-soave-e-nella-valpolicella
END:VEVENT
END:VCALENDAR
