BEGIN:VCALENDAR
VERSION:2.0
PRODID:icalendar-ruby
CALSCALE:GREGORIAN
BEGIN:VEVENT
DTSTAMP:20260421T011000Z
UID:EZV6YA
DTSTART;VALUE=DATE:20240418
DTEND;VALUE=DATE:20240419
CLASS:PUBLIC
CREATED:20240311T163405
DESCRIPTION: After the success of his first standup show Hungry Hungry Drag
 on which was\n- toured in over 70 European Cities\n- received over 500+ re
 views and\n- earned Dragos the role of opener for the Grammy Nominated Com
 edian Jim Gaffigan on his European Tour.\nDragos is now back with a brand 
 new show. \n\n  \nBEST CASE SCENARIO\nhttps://youtu.be/EMpaxwNSjO4\n[youtu
 be:EMpaxwNSjO4] \n
LAST-MODIFIED:20250403T203229
LOCATION:Skali Aglantzias Gallery\, Agiou Georgiou 15\, Aglantzia\, 2108 Ni
 cosia
ORGANIZER:mailto:tours@dragoscomedy.com
SUMMARY:Dragos in Nicosia 2024 (APR) - HOT GOSSIP + Crowd Work
URL;VALUE=URI:https://ti.to/fire-bear-productions/dragosinnicosia2024
URL;VALUE=URI:https://ti.to/fire-bear-productions/dragosinnicosia2024
END:VEVENT
END:VCALENDAR
