BEGIN:VCALENDAR
VERSION:2.0
PRODID:icalendar-ruby
CALSCALE:GREGORIAN
BEGIN:VEVENT
DTSTAMP:20260426T003901Z
UID:1XOndw
DTSTART:20241209T190000
DTEND:20241209T230000
CLASS:PUBLIC
CREATED:20241113T150458
DESCRIPTION: The Romanian Gossip Show Format Expalined:  \n\n This show is 
 part of the Hot Gossip Formats Dragos has been doing in Berlin and Mexico 
 - now coming to Zurich. \n\n It focuses more on audience interaction with 
 a prompt. \n\n This format enables you the audience to write down a story 
 on a piece of paper at the start of the show and then it can be highlighte
 d for jokes during the show.  \n\n Your input can be anonymous if you'd li
 ke. \n\n At the entry you can write you story on the paper that will be pr
 ovided and put it into a bowl for later. \n\n The stories can be anything 
 you find interesting / funny: \n\n \n Interactions you've had in Romania  
 \n Family issues / drama from back home \n Relationship or Work Drama \n C
 hildhood Memories \n Dating Issues / Ex Drama \n \n\n Feel free to be as c
 reative as possible. Enjoy the show and please do reach out for any issues
 ! \n\n This show will be filmed so please note that buy getting a ticket y
 ou accept to be part of the audience.  \n\n Disclaimer: due to the venue p
 olicies\, this event is for 18+ \n\n ROMANIAN GOSSIP \n\n [youtube:NMavZj3
 73NM] \n
LAST-MODIFIED:20250423T174131
LOCATION:Club 99  Bulevardul Dacia 99\, București 030167\, Romania
ORGANIZER:mailto:firebearou@gmail.com
SUMMARY:Dragos in Bucuresti 2024 (09 DEC) - Romanian GOSSIP SHOW! Full Crow
 d Work Show
URL;VALUE=URI:https://ti.to/fire-bear-productions/dragosinbucuresti2024dec0
 9
URL;VALUE=URI:https://ti.to/fire-bear-productions/dragosinbucuresti2024dec0
 9
END:VEVENT
END:VCALENDAR
