BEGIN:VCALENDAR
VERSION:2.0
PRODID:icalendar-ruby
CALSCALE:GREGORIAN
BEGIN:VTIMEZONE
TZID:Europe/Berlin
BEGIN:DAYLIGHT
DTSTART:20260329T030000
TZOFFSETFROM:+0100
TZOFFSETTO:+0200
RRULE:FREQ=YEARLY;BYDAY=-1SU;BYMONTH=3
TZNAME:CEST
END:DAYLIGHT
BEGIN:STANDARD
DTSTART:20251026T020000
TZOFFSETFROM:+0200
TZOFFSETTO:+0100
RRULE:FREQ=YEARLY;BYDAY=-1SU;BYMONTH=10
TZNAME:CET
END:STANDARD
END:VTIMEZONE
BEGIN:VEVENT
DTSTAMP:20260420T023348Z
UID:h8YIeA
DTSTART;TZID=Europe/Berlin:20251203T190000
DTEND;TZID=Europe/Berlin:20251203T220000
CLASS:PUBLIC
CREATED:20250915T151932
LAST-MODIFIED:20251021T081104
LOCATION:Freifläche\, Bülowstraße 90\, 10783 Berlin
ORGANIZER:mailto:fintechstammtischberlin@gmail.com
SUMMARY:FinTech Stammtisch - Die veränderte Rolle von CFOs in FinTech-Unte
 rnehmen
URL;VALUE=URI:https://ti.to/fintech-stammtisch/fintech-stammtisch-cfo
URL;VALUE=URI:https://ti.to/fintech-stammtisch/fintech-stammtisch-cfo
END:VEVENT
END:VCALENDAR
