BEGIN:VCALENDAR
VERSION:2.0
PRODID:icalendar-ruby
CALSCALE:GREGORIAN
BEGIN:VTIMEZONE
TZID:Europe/Berlin
BEGIN:DAYLIGHT
DTSTART:20250330T030000
TZOFFSETFROM:+0100
TZOFFSETTO:+0200
RRULE:FREQ=YEARLY;BYDAY=-1SU;BYMONTH=3
TZNAME:CEST
END:DAYLIGHT
BEGIN:STANDARD
DTSTART:20251026T020000
TZOFFSETFROM:+0200
TZOFFSETTO:+0100
RRULE:FREQ=YEARLY;BYDAY=-1SU;BYMONTH=10
TZNAME:CET
END:STANDARD
END:VTIMEZONE
BEGIN:VEVENT
DTSTAMP:20260420T022456Z
UID:KyB7eg
DTSTART;TZID=Europe/Berlin:20250514T190000
DTEND;TZID=Europe/Berlin:20250514T220000
CLASS:PUBLIC
CREATED:20250403T110238
LAST-MODIFIED:20250404T083042
LOCATION:Freifläche\, Bülowstraße 90\, 10783 Berlin
ORGANIZER:mailto:fintechstammtischberlin@gmail.com
SUMMARY:FinTech Stammtisch - Von Beteiligung bis Betriebsrat
URL;VALUE=URI:https://ti.to/fintech-stammtisch/fintech-stammtisch-betriebsr
 at
URL;VALUE=URI:https://ti.to/fintech-stammtisch/fintech-stammtisch-betriebsr
 at
END:VEVENT
END:VCALENDAR
