BEGIN:VCALENDAR
VERSION:2.0
PRODID:icalendar-ruby
CALSCALE:GREGORIAN
BEGIN:VTIMEZONE
TZID:Europe/Berlin
BEGIN:DAYLIGHT
DTSTART:20260329T030000
TZOFFSETFROM:+0100
TZOFFSETTO:+0200
RRULE:FREQ=YEARLY;BYDAY=-1SU;BYMONTH=3
TZNAME:CEST
END:DAYLIGHT
BEGIN:STANDARD
DTSTART:20251026T020000
TZOFFSETFROM:+0200
TZOFFSETTO:+0100
RRULE:FREQ=YEARLY;BYDAY=-1SU;BYMONTH=10
TZNAME:CET
END:STANDARD
END:VTIMEZONE
BEGIN:VEVENT
DTSTAMP:20260420T023934Z
UID:8Gcowg
DTSTART;TZID=Europe/Berlin:20260217T190000
DTEND;TZID=Europe/Berlin:20260217T220000
CLASS:PUBLIC
CREATED:20251219T104548
LAST-MODIFIED:20251219T122921
LOCATION:Freifläche\, Bülowstraße 90\, 10783 Berlin
ORGANIZER:mailto:fintechstammtischberlin@gmail.com
SUMMARY:FinTech Stammtisch - European Payments
URL;VALUE=URI:https://ti.to/fintech-stammtisch/european-payments
URL;VALUE=URI:https://ti.to/fintech-stammtisch/european-payments
END:VEVENT
END:VCALENDAR
