BEGIN:VCALENDAR
VERSION:2.0
PRODID:icalendar-ruby
CALSCALE:GREGORIAN
BEGIN:VTIMEZONE
TZID:Europe/London
BEGIN:DAYLIGHT
DTSTART:20270328T020000
TZOFFSETFROM:+0000
TZOFFSETTO:+0100
RRULE:FREQ=YEARLY;BYDAY=-1SU;BYMONTH=3
TZNAME:BST
END:DAYLIGHT
BEGIN:STANDARD
DTSTART:20261025T010000
TZOFFSETFROM:+0100
TZOFFSETTO:+0000
RRULE:FREQ=YEARLY;BYDAY=-1SU;BYMONTH=10
TZNAME:GMT
END:STANDARD
END:VTIMEZONE
BEGIN:VEVENT
DTSTAMP:20260422T185823Z
UID:tMud5A
DTSTART;TZID=Europe/London:20261030T120000
DTEND;TZID=Europe/London:20261101T223000
CLASS:PUBLIC
CREATED:20260408T142203
DESCRIPTION: Film Noir UK invites you to indulge in another weekend of dang
 er\, desire and despair with Film Noir Fest 2026. Set in the heart of West
 on-super-Mare\, Film Noir Fest is the UK's only film festival dedicated to
  showcasing the many aspects of film noir and classic crime films on the b
 ig screen! \n\n Spread over the course of one weekend (30th October - 1st 
 November)\, at Weston’s famous Plaza Cinema\, Film Noir Fest gives audie
 nces the option to see a wide selection of 20+ films on two separate cinem
 a screens. Info on programming and titles very soon! \n\n Limited Early Bi
 rd Festival Passes are now on sale so we recommend purchasing them sooner 
 rather than later. \n\n Film Noir Fest is presented in collaboration with 
 BFI Audience Network\, Merlin Cinemas and Film Noir UK. \n
LAST-MODIFIED:20260415T174858
LOCATION:Plaza Cinema\, Weston-super-Mare
ORGANIZER:mailto:southwestsilents@gmail.com
SUMMARY:Film Noir Fest 2026
URL;VALUE=URI:https://ti.to/film-noir-uk/filmnoirfest2026
URL;VALUE=URI:https://ti.to/film-noir-uk/filmnoirfest2026
END:VEVENT
END:VCALENDAR
