BEGIN:VCALENDAR
VERSION:2.0
PRODID:icalendar-ruby
CALSCALE:GREGORIAN
BEGIN:VEVENT
DTSTAMP:20260423T091805Z
UID:9dIDbQ
DTSTART;VALUE=DATE:20170924
DTEND;VALUE=DATE:20170925
CLASS:PUBLIC
CREATED:20170817T160404
DESCRIPTION: Kultura is a modern Filipino American food and arts festival p
 resenting over a dozen Filipino American chefs\, artists\, DJs\, musicians
  and scholars.  \n\n Carefully curated to appeal to both those who persona
 lly identify with Filipino culture and the merely curious or uninitiated\,
  Kultura Festival aims to highlight the best in modern Filipino-American f
 ood and arts in Chicago and the Midwest. \n\n For more information on the 
 complete festival lineup\, visit http://filipino.kitchen/kultura-festival/
  \n
LAST-MODIFIED:20170924T214225
LOCATION:Emporium Logan Square: 2363 N. Milwaukee Avenue\, Chicago\,IL
ORGANIZER:mailto:natalia@filipino.kitchen
SUMMARY:Kultura Festival 2017 Chicago
URL;VALUE=URI:https://ti.to/filipino-kitchen/kultura-2017
URL;VALUE=URI:https://ti.to/filipino-kitchen/kultura-2017
END:VEVENT
END:VCALENDAR
