BEGIN:VCALENDAR
VERSION:2.0
PRODID:icalendar-ruby
CALSCALE:GREGORIAN
BEGIN:VTIMEZONE
TZID:America/Chicago
BEGIN:DAYLIGHT
DTSTART:20210314T030000
TZOFFSETFROM:-0600
TZOFFSETTO:-0500
RRULE:FREQ=YEARLY;BYDAY=2SU;BYMONTH=3
TZNAME:CDT
END:DAYLIGHT
BEGIN:STANDARD
DTSTART:20211107T010000
TZOFFSETFROM:-0500
TZOFFSETTO:-0600
RRULE:FREQ=YEARLY;BYDAY=1SU;BYMONTH=11
TZNAME:CST
END:STANDARD
END:VTIMEZONE
BEGIN:VEVENT
DTSTAMP:20260424T093734Z
UID:5zfIOw
DTSTART;VALUE=DATE:20210609
DTEND;VALUE=DATE:20210610
CLASS:PUBLIC
CREATED:20210517T104513
DESCRIPTION: Come join us for a cocktail and discussion about the day's ann
 ouncements after the sessions on Wednesday during WWDC'21. Space is limite
 d\, and we'll randomly group people to facilitate good discussions\, then 
 rotate a few times during the event. \n\n I expect it to last about 2 hour
 s. Make yourself a cocktail of your choice and come join us! \n\n Wednesda
 y\, June 9th\, 2021 @ 6PM Central Time\n(Handy Local Time Zone Link) \n\n 
 Note that the time here is listed in Central Daylight Time (GMT-5)\, my lo
 cal time zone. If the WWDC schedule ends up conflicting with this time at 
 all\, then we may have to move it. I'll communicate this in advance to mak
 e sure we're all on the same page. \n\n This event has been provided by NS
 Screencast. \n
LAST-MODIFIED:20210609T230601
LOCATION:Zoom
ORGANIZER:mailto:ben@ficklebits.com
SUMMARY:WWDC 2021 Remote Happy Hour
URL;VALUE=URI:https://ti.to/ficklebits/wwdc-2021-happy-hour
URL;VALUE=URI:https://ti.to/ficklebits/wwdc-2021-happy-hour
END:VEVENT
BEGIN:VEVENT
DTSTAMP:20260424T093734Z
UID:5zfIOw1038205
DTSTART;VALUE=DATE:20210609
DTEND;VALUE=DATE:20210610
CLASS:PUBLIC
CREATED:20210517T104513
DESCRIPTION:Here's your Zoom link:\n\nTopic: WWDC 21 Remote Happy Hour\nTim
 e: Jun 9\, 2021 06:00 PM Central Time (US and Canada)\n\nJoin Zoom Meeting
 \n[https://zoom.us/j/99447176689?pwd=TitVK3pwamZIeXhrRGliUEFremhwZz09](htt
 ps://zoom.us/j/99447176689?pwd=TitVK3pwamZIeXhrRGliUEFremhwZz09)\n\nMeetin
 g ID: 994 4717 6689\nPasscode: 693317\n\n<br>\n<br>\nJoin us Wednesday at 
 6pm with a beverage of choice and join us for a friendly chat about the we
 ek's announcements.\n\n\\- We'll start with a quick intro to welcome every
 one and review the schedule\\.\n\\- Then we'll break out into smaller room
 s to facilitate better discussion\n\\- Every 20\\-25 minutes we'll switch 
 rooms\n\\- We'll do this until 8 PM CDT\, but feel free to drop off if you
  need to\\!\n\nOne thing that will help is to edit your Zoom name and show
  your Twitter handle and where you're from.\n\nA few quick rules:\n\n\\- P
 lease don't share the invite link\\. This meeting is completely full and t
 here's also a waiting list\\.\n\n\\- Be respectful and polite\\. We won't 
 tolerate any kind of harassment and you'll be removed from the meeting\\. 
 We want this to be a safe\, fun place to chat with friends and discuss the
  day's announcements\\.\n\n\\- If you need help or assistance please reach
  out to me \\(@subdigital\\)\\. DMs are open\\.
LAST-MODIFIED:20210531T121459
ORGANIZER:mailto:ben@ficklebits.com
SUMMARY:[WWDC 2021 Remote Happy Hour] Zoom Meeting
URL;VALUE=URI:https://ti.to/ficklebits/wwdc-2021-happy-hour
X-ALT-DESC;FMTTYPE=text/html:Here's your Zoom link:\n\nTopic: WWDC 21 Remot
 e Happy Hour\nTime: Jun 9\, 2021 06:00 PM Central Time (US and Canada)\n\n
 Join Zoom Meeting\n[https://zoom.us/j/99447176689?pwd=TitVK3pwamZIeXhrRGli
 UEFremhwZz09](https://zoom.us/j/99447176689?pwd=TitVK3pwamZIeXhrRGliUEFrem
 hwZz09)\n\nMeeting ID: 994 4717 6689\nPasscode: 693317\n\n<br>\n<br>\nJoin
  us Wednesday at 6pm with a beverage of choice and join us for a friendly 
 chat about the week's announcements.\n\n\\- We'll start with a quick intro
  to welcome everyone and review the schedule\\.\n\\- Then we'll break out 
 into smaller rooms to facilitate better discussion\n\\- Every 20\\-25 minu
 tes we'll switch rooms\n\\- We'll do this until 8 PM CDT\, but feel free t
 o drop off if you need to\\!\n\nOne thing that will help is to edit your Z
 oom name and show your Twitter handle and where you're from.\n\nA few quic
 k rules:\n\n\\- Please don't share the invite link\\. This meeting is comp
 letely full and there's also a waiting list\\.\n\n\\- Be respectful and po
 lite\\. We won't tolerate any kind of harassment and you'll be removed fro
 m the meeting\\. We want this to be a safe\, fun place to chat with friend
 s and discuss the day's announcements\\.\n\n\\- If you need help or assist
 ance please reach out to me \\(@subdigital\\)\\. DMs are open\\.
URL;VALUE=URI:https://ti.to/ficklebits/wwdc-2021-happy-hour
END:VEVENT
END:VCALENDAR
