BEGIN:VCALENDAR
VERSION:2.0
PRODID:icalendar-ruby
CALSCALE:GREGORIAN
BEGIN:VEVENT
DTSTAMP:20260420T172238Z
UID:w89NnA
DTSTART:20260605T153000
DTEND:20260607T140000
CLASS:PUBLIC
CREATED:20260122T211658
DESCRIPTION: Ár gceiliúradh 10 mbliana! Bliain MHÓR! \n\n 5+6 Meitheamh 
 \n
LAST-MODIFIED:20260315T200639
LOCATION:Ráth Chairn\,\, Gaeltacht na Mí
ORGANIZER:mailto:feilenagealai@gmail.com
SUMMARY:Féile na Gealaí 2026
URL;VALUE=URI:https://ti.to/feile-na-gealai/feile-na-gealai-2026
URL;VALUE=URI:https://ti.to/feile-na-gealai/feile-na-gealai-2026
END:VEVENT
END:VCALENDAR
