BEGIN:VCALENDAR
VERSION:2.0
PRODID:icalendar-ruby
CALSCALE:GREGORIAN
BEGIN:VTIMEZONE
TZID:Europe/Stockholm
BEGIN:DAYLIGHT
DTSTART:20220327T030000
TZOFFSETFROM:+0100
TZOFFSETTO:+0200
RRULE:FREQ=YEARLY;BYDAY=-1SU;BYMONTH=3
TZNAME:CEST
END:DAYLIGHT
BEGIN:STANDARD
DTSTART:20221030T020000
TZOFFSETFROM:+0200
TZOFFSETTO:+0100
RRULE:FREQ=YEARLY;BYDAY=-1SU;BYMONTH=10
TZNAME:CET
END:STANDARD
END:VTIMEZONE
BEGIN:VEVENT
DTSTAMP:20260421T163235Z
UID:aC5sXg
DTSTART;VALUE=DATE:20220525
DTEND;VALUE=DATE:20220526
CLASS:PUBLIC
CREATED:20220401T135007
DESCRIPTION: DUDE\, WHERE IS MY KARMA? is a laughter-filled stand up comedy
  show with internationally touring comedian Fedor Ikelaar (NL). \n\n  \n S
 TAND-UP COMEDY IN ENGLISH  \n\n Wednesday\, 25 May 2022 • doors 19:00 
 • show 20:00\nat Restaurant Balder - Skolgatan 58D\, 903 27 Umeå\, Swed
 en \n\n Dude\, Where is My Karma?\nThe global journey of a not so spiritua
 l Dutch dude. \n\n Join Fedor on his laughter-filled\, insane journey acro
 ss the globe. With a combination of sharp wit and other foolishness\, he s
 hares his experience from living\, working and failing abroad. A fun packe
 d hour where the exotic becomes recognizable \n\n Fedor Ikelaar is a born 
 and raised Dutchie\, who always felt a bit out of place in the Netherlands
 . After years of moving from one country to another he finally ended up in
  Nepal...where he felt even more out of place. Surrounded by spiritual Nep
 alese\, occasional opium dealers\, forgotten hippies and millennials tryin
 g to find themselves\, he lost himself more and more but remained captivat
 ed by the madness of it all. \n\n Stand-up comedy turned out to be the bes
 t outlet for this constant cultural amazement. For the past years he has b
 een performing across the globe from Cape Town to Calcutta. Stitching toge
 ther his world-travelled experience\, from growing up in both the Netherla
 nds and France to traveling the world and ending up high in the Himalayas.
  With his unique perspective he manages to make his fumbling abroad in exo
 tic places highly relatable and enjoyable \n
LAST-MODIFIED:20221119T122807
LOCATION:Restaurang Balder\, Umeå
ORGANIZER:mailto:fedor.ikelaar@gmail.com
SUMMARY:Dude\, Where is My Karma? • Umeå • Stand up Comedy in English 
 with Fedor Ikelaar
URL;VALUE=URI:https://ti.to/fedor/dude-where-is-my-karma-umea
URL;VALUE=URI:https://ti.to/fedor/dude-where-is-my-karma-umea
END:VEVENT
END:VCALENDAR
