BEGIN:VCALENDAR
VERSION:2.0
PRODID:icalendar-ruby
CALSCALE:GREGORIAN
BEGIN:VTIMEZONE
TZID:Pacific/Honolulu
BEGIN:STANDARD
DTSTART:19470608T023000
TZOFFSETFROM:-1130
TZOFFSETTO:-1000
TZNAME:HST
END:STANDARD
END:VTIMEZONE
BEGIN:VEVENT
DTSTAMP:20260421T083815Z
UID:yje6dA
DTSTART;TZID=Pacific/Honolulu:20250225T073000
DTEND;TZID=Pacific/Honolulu:20250225T153000
CLASS:PUBLIC
CREATED:20250117T135648
DESCRIPTION: Childhood homelessness is one of Hawaiʻi’s most urgent — 
 but often hidden — challenges. Come together to learn about the research
 \, hear about innovative solutions\, and connect with a community dedicate
 d to creating a Hawaiʻi where every child has a home. \n
LAST-MODIFIED:20250224T114214
LOCATION:Queen's Conference Center
ORGANIZER:mailto:symposium@familypromisehawaii.org
SUMMARY:Childhood Homelessness Symposium
URL;VALUE=URI:https://ti.to/familypromisehawaii/symposium
URL;VALUE=URI:https://ti.to/familypromisehawaii/symposium
END:VEVENT
END:VCALENDAR
