BEGIN:VCALENDAR
VERSION:2.0
PRODID:icalendar-ruby
CALSCALE:GREGORIAN
BEGIN:VTIMEZONE
TZID:America/Chicago
BEGIN:DAYLIGHT
DTSTART:20250309T030000
TZOFFSETFROM:-0600
TZOFFSETTO:-0500
RRULE:FREQ=YEARLY;BYDAY=2SU;BYMONTH=3
TZNAME:CDT
END:DAYLIGHT
BEGIN:STANDARD
DTSTART:20251102T010000
TZOFFSETFROM:-0500
TZOFFSETTO:-0600
RRULE:FREQ=YEARLY;BYDAY=1SU;BYMONTH=11
TZNAME:CST
END:STANDARD
END:VTIMEZONE
BEGIN:VEVENT
DTSTAMP:20260422T090232Z
UID:29OEzw
DTSTART;VALUE=DATE:20250509
DTEND;VALUE=DATE:20250512
CLASS:PUBLIC
CREATED:20250416T124117
DESCRIPTION: Pop-Up Escape Rooms presents TWO adventures on the Starship As
 traeus - start your journey with "Secret Aboard Starship Astraeus" and con
 tinue the excitement with "Discovery of Starship Astraeus"!\n \n\n [youtub
 e:C4k7wAhyeS4] \n\n Your ragtag group of space scavengers have just stumbl
 ed upon the mother lode - a derelict Galactic Concordant Starship ripe for
  the taking! Scrapping it for parts alone would net you enough credits to 
 buy a small moon! But the unusual cargo on the Astraeus has made it a targ
 et by the ruthless Urbraxian Dominion. And what you thought was a simple s
 cavenging job has become a race for survival! Test your wits and guile in 
 this high tech escape room to achieve one of several possible endings! \n\
 n  \n\n  \n\n The adventures continues in "Discovery of Starship Astraeus"
 ! \n\n Blast your way through an asteroid field! Decipher ancient alien ru
 ins! Battle enemy starships! Study alien creatures! And explore a planet t
 hat may yield an incredible discovery… but only if you survive! \n\n  \n
 \n After warping through Xenospace\, the crew of Starship Astraeus find th
 emselves stranded in a strange and unexplored region of the galaxy. You mu
 st work as a crew and use the ship’s systems to make an incredible disco
 very and find a path back to Earth. But time is not on your side. A solar 
 flare is heating up and the ship won’t hold together for long. In order 
 to survive\, do you dare trust a former foe? \n\n  \nTake the Galactic Con
 cordant Assessment Quiz (Sound ON) \n\n Player Q &amp\; A \n\n What kind o
 f events are these? \n\n These are interactive adventures! For one hour\, 
 you and your team will be the heroes in an exciting story in which you mus
 t interact with the room to accomplish a goal. In order to achieve a good 
 ending you will: Take part in a mystery that you must solve\, Follow clues
  and use your detective skills\, Test your wits to solve tricky puzzles\, 
 Work as a team and play to your strengths\, Experience a thrilling and mem
 orable adventure! \n\n So it's an escape room? \n\n Yes! But because our r
 ooms focus on giving players the experience of a playable adventure\, we p
 refer to call it a Live Adventure Interactive Room (LAIR). \n\n I often fe
 el intimidated by escape rooms\, or left out of the group. \n\n Our room d
 irectors are present in the room and their job is to: Provide subtle guida
 nce so you do not get stuck on anything not worth getting stuck on\, and t
 o help all players feel included and that they are contributing to the adv
 enture. \n\n How long does it take to play? \n\n Your adventure will take 
 one hour! This includes your story briefing\, play time\, and debriefing. 
 \n\n What age group is this for? \n\n Ages 12 and up\, unless accompanied 
 by a parent. Children under 4 are free. \n\n Can I pay with a Credit card 
 or cash? \n\n Yes\, you can pay with credit card\, paypal\, etc. online on
  this registration page. Otherwise you can pay cash at the door. \n\n How 
 can I contact with more questions you? \n\n Please email dave@experimental
 gamer.com \n
LAST-MODIFIED:20250511T160638
LOCATION:(Skyway A)
ORGANIZER:mailto:dave@experimentalgamer.com
SUMMARY:Starship Astraeus - Animinneapolis 2025
URL;VALUE=URI:https://ti.to/experimental-gamer/starship-animinneapolis-2025
URL;VALUE=URI:https://ti.to/experimental-gamer/starship-animinneapolis-2025
END:VEVENT
END:VCALENDAR
