BEGIN:VCALENDAR
VERSION:2.0
PRODID:icalendar-ruby
CALSCALE:GREGORIAN
BEGIN:VTIMEZONE
TZID:America/Chicago
BEGIN:DAYLIGHT
DTSTART:20250309T030000
TZOFFSETFROM:-0600
TZOFFSETTO:-0500
RRULE:FREQ=YEARLY;BYDAY=2SU;BYMONTH=3
TZNAME:CDT
END:DAYLIGHT
BEGIN:STANDARD
DTSTART:20251102T010000
TZOFFSETFROM:-0500
TZOFFSETTO:-0600
RRULE:FREQ=YEARLY;BYDAY=1SU;BYMONTH=11
TZNAME:CST
END:STANDARD
END:VTIMEZONE
BEGIN:VEVENT
DTSTAMP:20260422T090012Z
UID:6dkevQ
DTSTART;VALUE=DATE:20250509
DTEND;VALUE=DATE:20250512
CLASS:PUBLIC
CREATED:20250416T124923
DESCRIPTION: \n[youtube:eoDVfuapd60] \n\n Prince Prospero’s lavish masque
 rade ball has turned into a nightmare. The Red Death has snuck into the ca
 stellated abbey and\, one-by-one\, the partygoers are succumbing to the te
 rrible plague. Your only hope to escape is a secret ritual where you must 
 find the masks of those who died tragically\, learn the stories\, and ulti
 mately earn their favor.  \n\n Will you complete the ritual and be set fre
 e or will Darkness and Decay and the Red Death hold illimitable dominion o
 ver all? Test your wits\, guile and teamwork in this Edgar Allan Poe theme
 d horror escape room featuring a story that serves as a follow-up to Masqu
 e of the Red Death. \n\n  \n\n   \n\n Player Q &amp\; A \n\n What kind of 
 events are these? \n\n These are interactive adventures! For one hour\, yo
 u and your team will be the heroes in an exciting story in which you must 
 interact with the room to accomplish a goal. In order to achieve a good en
 ding you will: Take part in a mystery that you must solve\, Follow clues a
 nd use your detective skills\, Test your wits to solve tricky puzzles\, Wo
 rk as a team and play to your strengths\, Experience a thrilling and memor
 able adventure! \n\n So it's an escape room? \n\n Yes! But because our roo
 ms focus on giving players the experience of a playable adventure\, we pre
 fer to call it a Live Adventure Interactive Room (LAIR). \n\n I often feel
  intimidated by escape rooms\, or left out of the group. \n\n Our room dir
 ectors are present in the room and their job is to: Provide subtle guidanc
 e so you do not get stuck on anything not worth getting stuck on\, and to 
 help all players feel included and that they are contributing to the adven
 ture. \n\n How long does it take to play? \n\n Your adventure will take on
 e hour! This includes your story briefing\, play time\, and debriefing. \n
 \n What age group is this for? \n\n Ages 12 and up\, unless accompanied by
  a parent. Children under 4 are free. \n\n Can I pay with a Credit card or
  cash? \n\n Yes\, you can pay with credit card\, paypal\, etc. online on t
 his registration page. Otherwise you can pay cash at the door. \n\n How ca
 n I contact with more questions you? \n\n Please email dave@experimentalga
 mer.com \n
LAST-MODIFIED:20250511T160629
LOCATION:(Skyway B)
ORGANIZER:mailto:dave@experimentalgamer.com
SUMMARY:The Last Masquerade - Animinneapolis 2025
URL;VALUE=URI:https://ti.to/experimental-gamer/masquerade-animinneapolis-20
 25
URL;VALUE=URI:https://ti.to/experimental-gamer/masquerade-animinneapolis-20
 25
END:VEVENT
END:VCALENDAR
