BEGIN:VCALENDAR
VERSION:2.0
PRODID:icalendar-ruby
CALSCALE:GREGORIAN
BEGIN:VTIMEZONE
TZID:Europe/Budapest
BEGIN:DAYLIGHT
DTSTART:20210328T030000
TZOFFSETFROM:+0100
TZOFFSETTO:+0200
RRULE:FREQ=YEARLY;BYDAY=-1SU;BYMONTH=3
TZNAME:CEST
END:DAYLIGHT
BEGIN:STANDARD
DTSTART:20201025T020000
TZOFFSETFROM:+0200
TZOFFSETTO:+0100
RRULE:FREQ=YEARLY;BYDAY=-1SU;BYMONTH=10
TZNAME:CET
END:STANDARD
END:VTIMEZONE
BEGIN:VEVENT
DTSTAMP:20260419T164339Z
UID:DI4kcA
DTSTART;VALUE=DATE:20210311
DTEND;VALUE=DATE:20210312
CLASS:PUBLIC
CREATED:20210115T144746
DESCRIPTION: Experiencecon \n\n Online Customer and Employee Experience Con
 ference \n\n .be inspired \n\n In the experience economy\, customer experi
 ence can make or break your business. Learn more about the complexity and 
 the business impact of experience design and management and see how it can
  strengthen businesses even in hard times. \n\n .learn \n\n During this vi
 rtual conference\, we'll discuss the latest trends and best practices you 
 need to know to solve the evolving challenges of experience design and man
 agement. \n\n .connect \n\n Connect and network with other attendees\, cus
 tomer experience experts\, and leaders. Be a part of the community at our 
 annual conference featuring trends\, tools\, and best practices of experie
 nce design and management. \n\n See the agenda and learn more about the ev
 ent! \n
LAST-MODIFIED:20210312T125315
LOCATION:online
ORGANIZER:mailto:info@experiencecon.io
SUMMARY:Experiencecon2021
URL;VALUE=URI:https://ti.to/experiencecon/2021
URL;VALUE=URI:https://ti.to/experiencecon/2021
END:VEVENT
END:VCALENDAR
