BEGIN:VCALENDAR
VERSION:2.0
PRODID:icalendar-ruby
CALSCALE:GREGORIAN
BEGIN:VTIMEZONE
TZID:America/Los_Angeles
BEGIN:DAYLIGHT
DTSTART:20220313T030000
TZOFFSETFROM:-0800
TZOFFSETTO:-0700
RRULE:FREQ=YEARLY;BYDAY=2SU;BYMONTH=3
TZNAME:PDT
END:DAYLIGHT
BEGIN:STANDARD
DTSTART:20221106T010000
TZOFFSETFROM:-0700
TZOFFSETTO:-0800
RRULE:FREQ=YEARLY;BYDAY=1SU;BYMONTH=11
TZNAME:PST
END:STANDARD
END:VTIMEZONE
BEGIN:VEVENT
DTSTAMP:20260421T114921Z
UID:XKuSQw
DTSTART;VALUE=DATE:20220914
DTEND;VALUE=DATE:20220915
CLASS:PUBLIC
CREATED:20220810T205350
DESCRIPTION: Join us for an in-person SeattleJS! This month's event is spec
 ial in a few ways: \n\n \n It's going to be held outside on the Collective
  patio. \n We will be giving away a bunch of leftover swag from CascadiaJS
 . \n It's pretty much the end of summer ☀️ \n \n\n Tickets are $5 and 
 you'll receive a ticket you can use to purchase a drink! Tickets go up to 
 $10 the day of\, so don't delay! \n\n We are limiting this event to 65 peo
 ple\, so if you want to join us make sure to get your ticket! \n\n Agenda 
 \n\n \n 6:00pm - Doors Open \n 6:30pm: Kick-off and announcements \n 6:35p
 m: Networking and socializing \n 8:00pm: Farewell \n \n
LAST-MODIFIED:20220920T105739
LOCATION:The Collective Seattle
ORGANIZER:mailto:carter@cascadiajs.com
SUMMARY:SeattleJS September 2022
URL;VALUE=URI:https://ti.to/event-loop/seattlejs-september-2022
URL;VALUE=URI:https://ti.to/event-loop/seattlejs-september-2022
END:VEVENT
BEGIN:VEVENT
DTSTAMP:20260421T114921Z
UID:XKuSQw1048374
DTSTART;TZID=America/Los_Angeles:20220914T180000
DTEND;TZID=America/Los_Angeles:20220914T210000
CLASS:PUBLIC
CREATED:20220810T205352
LAST-MODIFIED:20220914T070421
LOCATION:The Collective Seattle\, 400 Dexter Ave N\, Seattle\, WA 98109\, U
 SA
ORGANIZER:mailto:carter@cascadiajs.com
SUMMARY:[SeattleJS September 2022] Event
URL;VALUE=URI:https://ti.to/event-loop/seattlejs-september-2022
URL;VALUE=URI:https://ti.to/event-loop/seattlejs-september-2022
END:VEVENT
END:VCALENDAR
