BEGIN:VCALENDAR
VERSION:2.0
PRODID:icalendar-ruby
CALSCALE:GREGORIAN
BEGIN:VTIMEZONE
TZID:America/Los_Angeles
BEGIN:DAYLIGHT
DTSTART:20230312T030000
TZOFFSETFROM:-0800
TZOFFSETTO:-0700
RRULE:FREQ=YEARLY;BYDAY=2SU;BYMONTH=3
TZNAME:PDT
END:DAYLIGHT
BEGIN:STANDARD
DTSTART:20231105T010000
TZOFFSETFROM:-0700
TZOFFSETTO:-0800
RRULE:FREQ=YEARLY;BYDAY=1SU;BYMONTH=11
TZNAME:PST
END:STANDARD
END:VTIMEZONE
BEGIN:VEVENT
DTSTAMP:20260421T114927Z
UID:s37tMw
DTSTART;VALUE=DATE:20231011
DTEND;VALUE=DATE:20231012
CLASS:PUBLIC
CREATED:20230914T082142
DESCRIPTION: Join your fellow web devs for an evening of talks\, networking
  and fun! \n\n Tickets are $5 and go up to $10 the day of\, so don't delay
 ! \n\n Agenda \n\n \n 5:30pm: Doors Open \n 6:30pm: Kick-off and announcem
 ents \n 6:35pm: A word from our sponsors \n 6:40pm: Talks / Networking / F
 un \n 8:30pm: Farewell \n \n
LAST-MODIFIED:20231011T140249
LOCATION:Gearhouse Capital Hill
ORGANIZER:mailto:info@seattlejs.com
SUMMARY:SeattleJS October 2023
URL;VALUE=URI:https://ti.to/event-loop/seattlejs-october-2023
URL;VALUE=URI:https://ti.to/event-loop/seattlejs-october-2023
END:VEVENT
BEGIN:VEVENT
DTSTAMP:20260421T114927Z
UID:s37tMw1061955
DTSTART;TZID=America/Los_Angeles:20231011T173000
DTEND;TZID=America/Los_Angeles:20231011T203000
CLASS:PUBLIC
CREATED:20230914T082144
LAST-MODIFIED:20230914T082445
LOCATION:Gearhouse\, 800 E Thomas St\, Seattle\, WA 98102\, USA
ORGANIZER:mailto:info@seattlejs.com
SUMMARY:[SeattleJS October 2023] Event
URL;VALUE=URI:https://ti.to/event-loop/seattlejs-october-2023
URL;VALUE=URI:https://ti.to/event-loop/seattlejs-october-2023
END:VEVENT
END:VCALENDAR
