BEGIN:VCALENDAR
VERSION:2.0
PRODID:icalendar-ruby
CALSCALE:GREGORIAN
BEGIN:VTIMEZONE
TZID:America/Los_Angeles
BEGIN:DAYLIGHT
DTSTART:20220313T030000
TZOFFSETFROM:-0800
TZOFFSETTO:-0700
RRULE:FREQ=YEARLY;BYDAY=2SU;BYMONTH=3
TZNAME:PDT
END:DAYLIGHT
BEGIN:STANDARD
DTSTART:20221106T010000
TZOFFSETFROM:-0700
TZOFFSETTO:-0800
RRULE:FREQ=YEARLY;BYDAY=1SU;BYMONTH=11
TZNAME:PST
END:STANDARD
END:VTIMEZONE
BEGIN:VEVENT
DTSTAMP:20260421T122842Z
UID:159ahQ
DTSTART;VALUE=DATE:20221012
DTEND;VALUE=DATE:20221013
CLASS:PUBLIC
CREATED:20220920T105738
DESCRIPTION: Join us for an in-person SeattleJS! Here's what's on tap: \n\n
  \n Talks! \n New location! \n More leftover swag from CascadiaJS! \n \n\n
  Tickets are $5 and go up to $10 the day of\, so don't delay! \n\n Agenda 
 \n\n \n 6:00pm: Doors Open \n 6:30pm: Kick-off and announcements \n 6:35pm
 : The Human API by Rachel Nabors \n 8:00pm: Farewell \n \n\n The Human API
  by Rachel Nabors \n\n  \n\n The only thing harder than writing scalable\,
  usable code is teaching others how to wield it. As the sum of human knowl
 edge continues to grow\, so too do the challenges of teaching each other w
 hat we need to know not only to build toward the future but also to contri
 bute to the tools of its construction. If only it were possible to transfe
 r knowledge from one engineer directly into the minds of other engineers\,
  like a human RAID! Rachel Lee Nabors loves building such mechanisms for k
 nowledge transfer\, from video guides to documentation to curricula. In th
 is talk\, they will discuss what doesn't work\, what has worked on project
 s like React and React Native\, and what can work for any other open sourc
 e project today. Teaching is hard. But there are solid ways to approach kn
 owledge transfer at scale. \n
LAST-MODIFIED:20221027T093423
LOCATION:Silicon Valley Bank
ORGANIZER:mailto:carter@cascadiajs.com
SUMMARY:SeattleJS October 2022
URL;VALUE=URI:https://ti.to/event-loop/seattlejs-october-2022
URL;VALUE=URI:https://ti.to/event-loop/seattlejs-october-2022
END:VEVENT
END:VCALENDAR
