BEGIN:VCALENDAR
VERSION:2.0
PRODID:icalendar-ruby
CALSCALE:GREGORIAN
BEGIN:VTIMEZONE
TZID:America/Los_Angeles
BEGIN:DAYLIGHT
DTSTART:20220313T030000
TZOFFSETFROM:-0800
TZOFFSETTO:-0700
RRULE:FREQ=YEARLY;BYDAY=2SU;BYMONTH=3
TZNAME:PDT
END:DAYLIGHT
BEGIN:STANDARD
DTSTART:20221106T010000
TZOFFSETFROM:-0700
TZOFFSETTO:-0800
RRULE:FREQ=YEARLY;BYDAY=1SU;BYMONTH=11
TZNAME:PST
END:STANDARD
END:VTIMEZONE
BEGIN:VEVENT
DTSTAMP:20260421T114754Z
UID:bZEBUw
DTSTART;VALUE=DATE:20220511
DTEND;VALUE=DATE:20220512
CLASS:PUBLIC
CREATED:20220419T112136
DESCRIPTION: Join us for an in-person SeattleJS! \n\n Tickets are $5 and yo
 u'll recieve a ticket you can use to purchase a drink! \n\n We are limitin
 g this event to 50 people\, so if you want to join us make sure to get you
 r ticket! \n\n UPDATE: The mask policy at The Collective has changed since
  our last visit to optional. Since we do not have our own private/controll
 ed space\, we are making masks optional as well. We still encourage folks 
 to wear a mask if they are not eating or drinking\, and strongly support y
 our preference to wear a mask if you so choose. \n\n Agenda \n\n \n 6:00pm
  - Doors Open \n 6:30pm: Kick-off and announcements \n 6:35pm: A word from
  our sponsors \n 6:40pm: Amber Hoak - Stumbling through ML in JavaScript: 
 the good\, the bad\, and the computationally intensive \n 7:10pm: Speaker 
 #2 TBD \n 8:00pm: Farewell \n \n
LAST-MODIFIED:20220523T103628
LOCATION:The Collective Seattle
ORGANIZER:mailto:carter@cascadiajs.com
SUMMARY:SeattleJS May 2022
URL;VALUE=URI:https://ti.to/event-loop/seattlejs-may-2022
URL;VALUE=URI:https://ti.to/event-loop/seattlejs-may-2022
END:VEVENT
BEGIN:VEVENT
DTSTAMP:20260421T114754Z
UID:bZEBUw1045699
DTSTART;TZID=America/Los_Angeles:20220511T180000
DTEND;TZID=America/Los_Angeles:20220511T200000
CLASS:PUBLIC
CREATED:20220419T112137
LAST-MODIFIED:20220419T113018
LOCATION:The Collective Seattle\, 400 Dexter Ave N\, Seattle\, WA 98109\, U
 SA
ORGANIZER:mailto:carter@cascadiajs.com
SUMMARY:[SeattleJS May 2022] Event
URL;VALUE=URI:https://ti.to/event-loop/seattlejs-may-2022
URL;VALUE=URI:https://ti.to/event-loop/seattlejs-may-2022
END:VEVENT
END:VCALENDAR
