BEGIN:VCALENDAR
VERSION:2.0
PRODID:icalendar-ruby
CALSCALE:GREGORIAN
BEGIN:VTIMEZONE
TZID:America/Los_Angeles
BEGIN:DAYLIGHT
DTSTART:20230312T030000
TZOFFSETFROM:-0800
TZOFFSETTO:-0700
RRULE:FREQ=YEARLY;BYDAY=2SU;BYMONTH=3
TZNAME:PDT
END:DAYLIGHT
BEGIN:STANDARD
DTSTART:20231105T010000
TZOFFSETFROM:-0700
TZOFFSETTO:-0800
RRULE:FREQ=YEARLY;BYDAY=1SU;BYMONTH=11
TZNAME:PST
END:STANDARD
END:VTIMEZONE
BEGIN:VEVENT
DTSTAMP:20260419T210508Z
UID:cwpDuw
DTSTART;VALUE=DATE:20230614
DTEND;VALUE=DATE:20230615
CLASS:PUBLIC
CREATED:20230511T102745
DESCRIPTION: Join your fellow web devs for an evening of talks\, networking
  and fun! \n\n Please note\, we are meeting at Startup Hall this month. It
 's just a couple of blocks away from the UW light rail station. \n\n Ticke
 ts are $5 and go up to $10 the day of\, so don't delay! \n\n Agenda \n\n \
 n 5:30pm: Doors Open \n 6:30pm: Kick-off and announcements \n 6:35pm: A wo
 rd from our sponsors \n 6:40pm: Talks / Networking / Fun \n 8:30pm: Farewe
 ll \n \n
LAST-MODIFIED:20230511T103609
LOCATION:Startup Hall
ORGANIZER:mailto:carter@seattlejs.com
SUMMARY:SeattleJS June 2023
URL;VALUE=URI:https://ti.to/event-loop/seattlejs-june-2023
URL;VALUE=URI:https://ti.to/event-loop/seattlejs-june-2023
END:VEVENT
BEGIN:VEVENT
DTSTAMP:20260419T210508Z
UID:cwpDuw1056531
DTSTART;TZID=America/Los_Angeles:20230614T173000
DTEND;TZID=America/Los_Angeles:20230614T203000
CLASS:PUBLIC
CREATED:20230511T102746
LAST-MODIFIED:20230511T103359
LOCATION:Startup Hall\, 1100 NE Campus Pkwy #200\, Seattle\, WA 98105\, USA
ORGANIZER:mailto:carter@seattlejs.com
SUMMARY:[SeattleJS June 2023] Event
URL;VALUE=URI:https://ti.to/event-loop/seattlejs-june-2023
URL;VALUE=URI:https://ti.to/event-loop/seattlejs-june-2023
END:VEVENT
END:VCALENDAR
