BEGIN:VCALENDAR
VERSION:2.0
PRODID:icalendar-ruby
CALSCALE:GREGORIAN
BEGIN:VTIMEZONE
TZID:America/Los_Angeles
BEGIN:DAYLIGHT
DTSTART:20220313T030000
TZOFFSETFROM:-0800
TZOFFSETTO:-0700
RRULE:FREQ=YEARLY;BYDAY=2SU;BYMONTH=3
TZNAME:PDT
END:DAYLIGHT
BEGIN:STANDARD
DTSTART:20221106T010000
TZOFFSETFROM:-0700
TZOFFSETTO:-0800
RRULE:FREQ=YEARLY;BYDAY=1SU;BYMONTH=11
TZNAME:PST
END:STANDARD
END:VTIMEZONE
BEGIN:VEVENT
DTSTAMP:20260421T114936Z
UID:S5hLGQ
DTSTART;VALUE=DATE:20220608
DTEND;VALUE=DATE:20220609
CLASS:PUBLIC
CREATED:20220504T132205
DESCRIPTION: Join us for an in-person SeattleJS! \n\n Tickets are $5 and yo
 u'll recieve a ticket you can use to purchase a drink! \n\n We are limitin
 g this event to 50 people\, so if you want to join us make sure to get you
 r ticket! \n\n Agenda \n\n \n 6:00pm - Doors Open \n 6:30pm: Kick-off and 
 announcements \n 6:35pm: A word from our sponsors \n 6:40pm: Talks \n 8:00
 pm: Farewell \n \n
LAST-MODIFIED:20220608T173355
LOCATION:The Collective Seattle
ORGANIZER:mailto:carter@cascadiajs.com
SUMMARY:SeattleJS June 2022
URL;VALUE=URI:https://ti.to/event-loop/seattlejs-june-2022
URL;VALUE=URI:https://ti.to/event-loop/seattlejs-june-2022
END:VEVENT
BEGIN:VEVENT
DTSTAMP:20260421T114936Z
UID:S5hLGQ1046240
DTSTART;TZID=America/Los_Angeles:20220608T180000
DTEND;TZID=America/Los_Angeles:20220608T200000
CLASS:PUBLIC
CREATED:20220504T132206
LAST-MODIFIED:20220504T132331
LOCATION:The Collective Seattle\, 400 Dexter Ave N\, Seattle\, WA 98109\, U
 SA
ORGANIZER:mailto:carter@cascadiajs.com
SUMMARY:[SeattleJS June 2022] Event
URL;VALUE=URI:https://ti.to/event-loop/seattlejs-june-2022
URL;VALUE=URI:https://ti.to/event-loop/seattlejs-june-2022
END:VEVENT
END:VCALENDAR
