BEGIN:VCALENDAR
VERSION:2.0
PRODID:icalendar-ruby
CALSCALE:GREGORIAN
BEGIN:VTIMEZONE
TZID:America/Los_Angeles
BEGIN:DAYLIGHT
DTSTART:20230312T030000
TZOFFSETFROM:-0800
TZOFFSETTO:-0700
RRULE:FREQ=YEARLY;BYDAY=2SU;BYMONTH=3
TZNAME:PDT
END:DAYLIGHT
BEGIN:STANDARD
DTSTART:20221106T010000
TZOFFSETFROM:-0700
TZOFFSETTO:-0800
RRULE:FREQ=YEARLY;BYDAY=1SU;BYMONTH=11
TZNAME:PST
END:STANDARD
END:VTIMEZONE
BEGIN:VEVENT
DTSTAMP:20260421T101253Z
UID:7PtAdA
DTSTART;VALUE=DATE:20230111
DTEND;VALUE=DATE:20230112
CLASS:PUBLIC
CREATED:20221216T114023
DESCRIPTION: Join us and celebrate a great start to 2023 with your fellow w
 eb devs! \n\n THANK YOU to the folks at AWS Skills Center Seattle for spon
 soring this month! ❤️ \n\n Tickets are $5 and go up to $10 the day of\
 , so don't delay! \n\n Agenda \n\n \n 5:30pm: Doors Open \n 6:30pm: Kick-o
 ff and announcements \n 6:35pm: A word from our sponsors \n 6:40pm: Talks 
 / Networking / Fun \n 8:30pm: Farewell \n \n\n  \n\n AWS Skills Center is 
 a free training center where people can\nlearn about cloud computing by en
 gaging with interactive\nexhibits\, taking free foundational cloud classro
 om training\, and\nparticipating in local community events. \n\n The AWS S
 kills Center supports Amazon’s 2025 skills\ncommitment to train 29 milli
 on people in cloud computing by\n2025. \n
LAST-MODIFIED:20221216T122726
LOCATION:AWS Skills Center Seattle
ORGANIZER:mailto:carter@seattlejs.com
SUMMARY:SeattleJS January 2023
URL;VALUE=URI:https://ti.to/event-loop/seattlejs-january-2023
URL;VALUE=URI:https://ti.to/event-loop/seattlejs-january-2023
END:VEVENT
END:VCALENDAR
