BEGIN:VCALENDAR
VERSION:2.0
PRODID:icalendar-ruby
CALSCALE:GREGORIAN
BEGIN:VTIMEZONE
TZID:Asia/Seoul
BEGIN:STANDARD
DTSTART:19881009T020000
TZOFFSETFROM:+1000
TZOFFSETTO:+0900
TZNAME:KST
END:STANDARD
END:VTIMEZONE
BEGIN:VEVENT
DTSTAMP:20260424T105545Z
UID:k4wGOg
DTSTART;TZID=Asia/Seoul:20260325T150000
DTEND;TZID=Asia/Seoul:20260325T180000
CLASS:PUBLIC
CREATED:20260223T110957
DESCRIPTION: EU-Korea 불화온실가스(F-Gas) 감축 및 관리 세미나
 는\n국제적인 온실가스 감축 노력과 산업 전환이 가속화
 되는 가운데\, 불화온실가스 감축 및 관리의 중요성을 
 조명하기 위해 마련되었습니다. \n\n 이번 세미나는 F-gas 
 감축과 관리에 관한 혁신 기술과 산업계의 모범 사례를 
 중심으로 F-Gas 감축 및 관리 방안의 EU와 한국의 정책 프
 레임워크를 개괄하고\, 산업 현장의 대응 전략을 함께 
 논의하는 자리가 될 것입니다. 특히\, 환경적 지속가능
 성과 산업 경쟁력을 동시에 고려한 실질적 협력 방안을 
 모색하는 것에 중점을 두고 있습니다. \n\n 본 행사는 EU
 와 대한민국의 산업계\, 정부\, 기술전문가\, 시민사회 
 대표 등 약 100여 명의 전문가들이 참석하여\, F-Gas 감축 
 및 관리에 관한 최신 동향과 정책 방향을 공유하고\, 양
 측의 경험과 관점을 바탕으로 협력 가능성을 논의할 예
 정입니다. \n\n 📌 주제: “EU-Korea 불화온실가스(F-Gas) 감
 축 및 관리 방안 세미나” \n\n 📅 일시: 3월 25일(수) \n\n 
 🕥 시간: 15:00–18:00 \n\n 📍 장소: 켄싱턴호텔 여의도 \n\
 n 📍 세미나실: 그랜드 스테이션 룸 \n\n 🎤 주최: 주한 
 유럽연합(EU) 대표부 \n\n  \nWelcome to the EU-Korea Seminar on Redu
 ction and Management of F-gases\, a topic of growing importance as global 
 efforts to mitigate emissions and transition toward sustainable industrial
  practices intensify. The seminar will focus on the intersection of indust
 ry innovation and policy frameworks\, highlighting opportunities to reduce
  F-gas emissions while supporting economic competitiveness and environment
 al objectives. \n\n The topics of the seminar will center on advancing F-g
 as reduction and management through innovative technologies and best pract
 ices\, fostering collaboration between industry and policymakers to suppor
 t environmental sustainability and regulatory alignment. \n\n This event w
 ill bring together approximately 100 experts from the European Union and t
 he Republic of Korea\, including representatives from industry\, governmen
 t\, and civil society. The seminar aims to facilitate knowledge exchange o
 n best practices in F-gas reduction and management\, with a strong emphasi
 s on industry perspectives and policy frameworks from both sides. \n\n 
 📌 Topic: “EU-Korea Seminar on Reduction and Management of F-gases” 
 \n\n 📅 Date: Wednesday\, 25 March \n\n 🕥 Time: 15:00–18:00 \n\n 
 📍 Venue: Kensington Hotel Yeouido\, 16 Gukhoe-daero 76-gil\, Yeongdeung
 po-gu\, Seoul \n\n 📍 Room: Grand Station Room \n\n 🎤 Hosted by: Dele
 gation of the European Union to the Republic of\nKorea \n
LAST-MODIFIED:20260324T165424
LOCATION:켄싱턴호텔 여의도 그랜드 스테이션 룸 ㅣ Grand Sta
 tion Room\, Kensington Hotel Yeouido 
ORGANIZER:MAILTO:
SUMMARY:EU-Korea 불화온실가스(F-Gas) 감축 및 관리 방안 세미
 나 | EU-Korea Seminar on Reduction and Management of F-gases
URL;VALUE=URI:https://ti.to/eu-korea-green-partnership-programme/seminar-on
 -the-reduction-and-management-of-f-gases
URL;VALUE=URI:https://ti.to/eu-korea-green-partnership-programme/seminar-on
 -the-reduction-and-management-of-f-gases
END:VEVENT
END:VCALENDAR
