BEGIN:VCALENDAR
VERSION:2.0
PRODID:icalendar-ruby
CALSCALE:GREGORIAN
BEGIN:VEVENT
DTSTAMP:20260423T135806Z
UID:du5P7g
DTSTART;VALUE=DATE:20190122
DTEND;VALUE=DATE:20190123
CLASS:PUBLIC
CREATED:20190117T170721
DESCRIPTION: Europe is one of the largest markets for and sources of innova
 tion in blockchain today. For the past 12 months\, the EU Blockchain Obser
 vatory and Forum has been taking the pulse of blockchain in the Union\, pr
 oviding expert analysis\, education and recommendations. Come join an inti
 mate discussion with European policy makers and Observatory thought leader
 s. It's a great opportunity to learn more about the current state of the E
 uropean blockchain ecosystem and what the future has in store. \n\n Doors 
 open and breakfast is served starting at 7am. The conversation will run fr
 om 8 to 9am. \n\n Speakers:  \n\n Sandra Ro\, CEO\, Global Blockchain Busi
 ness Council \n\n Julie Maupin\, Director of Social Impact and Public Regu
 latory Affairs\, IOTA Foundation\, EU Observatory Working Group \n\n Ken T
 imsit\, Managing Director of ConsenSys\, Enterprise Solutions\, EU Observa
 tory Management Committee \n\n Moderated by Tom Lyons\, Report Manager\, E
 U Blockchain Observatory and Forum \n
LAST-MODIFIED:20190122T135205
LOCATION:Ethereal Lounge\, Promenade 63 Davos Platz
ORGANIZER:mailto:ethereal-lounge@consensys.net
SUMMARY:Breakfast Conversation: Blockchain in Europe with the EU Blockchain
  Observatory and Forum
URL;VALUE=URI:https://ti.to/ethereal-lounge-davos-2019/-Blockchain-in-Europ
 e
URL;VALUE=URI:https://ti.to/ethereal-lounge-davos-2019/-Blockchain-in-Europ
 e
END:VEVENT
BEGIN:VEVENT
DTSTAMP:20260423T135806Z
UID:du5P7g1024204
DTSTART:20190122T070000
DTEND:20190122T090000
CLASS:PUBLIC
CREATED:20190117T170723
LAST-MODIFIED:20190122T135145
LOCATION:The Ethereal Lounge\, 7270 Davos Platz\, Switzerland
ORGANIZER:mailto:ethereal-lounge@consensys.net
SUMMARY:[Breakfast Conversation: Blockchain in Europe with the EU Blockchai
 n Observatory and Forum] Breakfast Conversation: Blockchain in Europe
URL;VALUE=URI:https://ti.to/ethereal-lounge-davos-2019/-Blockchain-in-Europ
 e
URL;VALUE=URI:https://ti.to/ethereal-lounge-davos-2019/-Blockchain-in-Europ
 e
END:VEVENT
END:VCALENDAR
