BEGIN:VCALENDAR
VERSION:2.0
PRODID:icalendar-ruby
CALSCALE:GREGORIAN
BEGIN:VTIMEZONE
TZID:Europe/Zurich
BEGIN:DAYLIGHT
DTSTART:20260329T030000
TZOFFSETFROM:+0100
TZOFFSETTO:+0200
RRULE:FREQ=YEARLY;BYDAY=-1SU;BYMONTH=3
TZNAME:CEST
END:DAYLIGHT
BEGIN:STANDARD
DTSTART:20251026T020000
TZOFFSETFROM:+0200
TZOFFSETTO:+0100
RRULE:FREQ=YEARLY;BYDAY=-1SU;BYMONTH=10
TZNAME:CET
END:STANDARD
END:VTIMEZONE
BEGIN:VEVENT
DTSTAMP:20260424T132254Z
UID:lQ4IGw
DTSTART;TZID=Europe/Zurich:20260324T140000
DTEND;TZID=Europe/Zurich:20260324T153000
CLASS:PUBLIC
CREATED:20260212T142011
DESCRIPTION: Join us for the ETHER Final Showcase Webinar\, the concluding 
 event of over than three-years Horizon Europe project reshaping future con
 nectivity through the integration of terrestrial and non-terrestrial netwo
 rks into a unified\, sustainable 3D Radio Access Network (RAN). \n\n ETHER
  has advanced an AI-driven\, zero-touch approach to resource management an
 d orchestration\, targeting 100% coverage\, 99.99999% reliability\, 3× hi
 gher energy efficiency\, and up to 95% reduction in Total Cost of Ownershi
 p compared to today’s terrestrial-only infrastructures. \n\n For more in
 fo and the agenda\, please visit our website at ether-project.eu/event/eth
 er-final-showcase \n
LAST-MODIFIED:20260310T141647
LOCATION:online
ORGANIZER:mailto:info@ether-project.eu
SUMMARY:ETHER Final Showcase: Demonstrating Sustainable 3D Terrestrial–No
 n-Terrestrial Networks for Future 6G Services
URL;VALUE=URI:https://ti.to/ether/ether-final-showcase
URL;VALUE=URI:https://ti.to/ether/ether-final-showcase
END:VEVENT
END:VCALENDAR
