BEGIN:VCALENDAR
VERSION:2.0
PRODID:icalendar-ruby
CALSCALE:GREGORIAN
BEGIN:VTIMEZONE
TZID:America/Denver
BEGIN:DAYLIGHT
DTSTART:20240310T030000
TZOFFSETFROM:-0700
TZOFFSETTO:-0600
RRULE:FREQ=YEARLY;BYDAY=2SU;BYMONTH=3
TZNAME:MDT
END:DAYLIGHT
BEGIN:STANDARD
DTSTART:20241103T010000
TZOFFSETFROM:-0600
TZOFFSETTO:-0700
RRULE:FREQ=YEARLY;BYDAY=1SU;BYMONTH=11
TZNAME:MST
END:STANDARD
END:VTIMEZONE
BEGIN:VEVENT
DTSTAMP:20260425T003234Z
UID:8dVdbQ
DTSTART;TZID=America/Denver:20240411T090000
DTEND;TZID=America/Denver:20240411T170000
CLASS:PUBLIC
CREATED:20240118T161108
DESCRIPTION: You are an Epic web developer (or you want to be). You want to
  be involved in the kinds of conversations that start great open source pr
 ojects\, web experiences\, and companies. \n\n Epic Web Conf is your oppor
 tunity to join other full stack web developers from all over the world to 
 collaborate on the present and future state of the art of building the abs
 olute best user and developer experiences possible. \n\n The highly curate
 d topics and expert speakers provide a fantastic environment for conversat
 ions before\, during\, and after the event. \n\n \n\n ____________________
 ________________________________________ \n\n Tickets are non-refundable. 
 Tickets are transferrable \n
LAST-MODIFIED:20240722T145858
LOCATION:Park City\, UT
ORGANIZER:mailto:conf@epicweb.dev
SUMMARY:Epic Web Conf 2024
URL;VALUE=URI:https://ti.to/epicweb/epicweb-conf-2024
URL;VALUE=URI:https://ti.to/epicweb/epicweb-conf-2024
END:VEVENT
END:VCALENDAR
