BEGIN:VCALENDAR
VERSION:2.0
PRODID:icalendar-ruby
CALSCALE:GREGORIAN
BEGIN:VTIMEZONE
TZID:America/New_York
BEGIN:DAYLIGHT
DTSTART:20210314T030000
TZOFFSETFROM:-0500
TZOFFSETTO:-0400
RRULE:FREQ=YEARLY;BYDAY=2SU;BYMONTH=3
TZNAME:EDT
END:DAYLIGHT
BEGIN:STANDARD
DTSTART:20201101T010000
TZOFFSETFROM:-0400
TZOFFSETTO:-0500
RRULE:FREQ=YEARLY;BYDAY=1SU;BYMONTH=11
TZNAME:EST
END:STANDARD
END:VTIMEZONE
BEGIN:VEVENT
DTSTAMP:20260424T020602Z
UID:WIrSdQ
DTSTART;VALUE=DATE:20201208
DTEND;VALUE=DATE:20201218
CLASS:PUBLIC
CREATED:20201019T141131
DESCRIPTION:  \n\n The Environmental League of Massachusetts will present o
 ur annual Commonwealth Environmental Leadership Awards to Secretary John K
 erry\, Biogen\, and the League of Conservation Voters Education Fund and t
 he first-ever Emerging Leader Award to the youth organizers of the Boston 
 Climate Strike. The sessions will feature timely and thoughtful conversati
 ons\, including remarks from prominent federal\, state\, and local governm
 ent officials\; nonprofit leaders\; and our Premier Sponsors. Speakers inc
 lude: \n\n \n U.S. Congresswoman Ayanna Pressley \n U.S. Senator Ed Markey
  \n MA Attorney General Maura Healey \n Former Secretary of Energy Ernest 
 Moniz \n Former U.N. Ambassador Samantha Power \n Former EPA Administrator
  and current LCV Board Chair Carol Browner \n Former EPA Administrator and
  current NRDC President and CEO Gina McCarthy \n Biogen EVP of Global Prod
 uct Strategy &amp\; Commercialization Chirfi Guindo \n Cambridge Mayor Sum
 bul Siddiqui \n Boston City Councilor Michelle Wu \n President &amp\; Foun
 der of Hip Hop Caucus Rev. Lennox Yearwood \n MassBio President &amp\; CEO
  Robert Coughlin \n Mothers Out Front Leadership Team Member Rebecca Woodw
 ard \n \n\n Subtitles available in English and Spanish \n\n Subtítulos di
 sponibles en inglés y español \n
LAST-MODIFIED:20201217T164429
LOCATION:Virtual
ORGANIZER:mailto:info@environmentalleague.org
SUMMARY:ELM's 2020 Commonwealth Environmental Leadership Awards
URL;VALUE=URI:https://ti.to/environmental-league-of-massachusetts/celas
URL;VALUE=URI:https://ti.to/environmental-league-of-massachusetts/celas
END:VEVENT
END:VCALENDAR
