BEGIN:VCALENDAR
VERSION:2.0
PRODID:icalendar-ruby
CALSCALE:GREGORIAN
BEGIN:VEVENT
DTSTAMP:20260423T234903Z
UID:JldkIw
DTSTART;VALUE=DATE:20210111
DTEND;VALUE=DATE:20210112
CLASS:PUBLIC
CREATED:20210111T072156
DESCRIPTION: Elevated RX TRT is a male enhancement dose that helps men achi
 eve a bigger erection. ElevatedRX TRT is a big refrain for those whose act
 ion in the chamber is not copacetic. Any chance it baffling to gratify the
 ir relative. Their quality makes the partner hunger for writer. \n\n https
 ://elevatedrxtrt5.wixsite.com/elevated-rx-trt \n\n https://sites.google.co
 m/view/elevated-rx-trt-web/home \n\n https://medium.com/@burstrot58/elevat
 ed-rx-trt-elevated-trt-reviews-2021-special-offers-50f0da50e1a9 \n\n https
 ://hype.news/elevatedrx-us/elevated-rx-trt-elevated-trt-reviews-2021-speci
 al-offers-ehj7zufi \n\n https://www.justgiving.com/fundraising/elevated-rx
 -trt-reviews \n\n https://muckrack.com/elevated-rx-trt-4 \n\n https://ktc.
 instructure.com/eportfolios/5134/Elevated_RX_TRT/Elevated_RX_TRT__Elevated
 RX_TRT \n\n https://tocal.instructure.com/eportfolios/10402/Elevated_RX_TR
 T/Elevated_RX_TRT__ElevatedRX_TRT \n\n https://svdesdeva.instructure.com/e
 portfolios/1186/Elevated_RX_TRT/Elevated_RX_TRT__ElevatedRX_TRT \n\n https
 ://k12.instructure.com/eportfolios/15199/Elevated_RX_TRT/Elevated_RX_TRT__
 ElevatedRX_TRT \n\n https://faculdadearidesa.instructure.com/eportfolios/1
 214/Elevated_RX_TRT/Elevated_RX_TRT__ElevatedRX_TRT \n\n https://wellesley
 k12.instructure.com/eportfolios/1265/Elevated_RX_TRT/Elevated_RX_TRT__Elev
 atedRX_TRT \n\n https://classifieds.newsbreak.com/general/post/general-123
 756124-1610343963605/Elevated%20RX%20TRT%20%7C%20ElevatedRX%20TRT \n\n htt
 ps://www.spreaker.com/user/elevatedrxtrtnew \n\n https://www.spreaker.com/
 show/elevated-rx-trt-elevatedrx-trt \n\n http://elitecaretreatment.com/dis
 cussions/elevated-rx-trt-elevatedrx-trt \n\n https://www.feedsfloor.com/pr
 ofile/elevatedrxtrt \n\n https://theprose.com/post/405123/https-elevatedrx
 trt5-wixsite-com-elevated-rx-trt \n\n http://snomoto.com/httpselevatedrxtr
 t5-wixsite-comelevated-rx-trt/ \n\n http://snomoto.com/forums/timbersled/h
 ttpselevatedrxtrt5-wixsite-comelevated-rx-trt/ \n
LAST-MODIFIED:20231212T102856
LOCATION:USA
ORGANIZER:mailto:burstrot58@gmail.com
SUMMARY:Elevated RX TRT
URL;VALUE=URI:https://ti.to/elevated-rx-trt/2021
URL;VALUE=URI:https://ti.to/elevated-rx-trt/2021
END:VEVENT
END:VCALENDAR
