BEGIN:VCALENDAR
VERSION:2.0
PRODID:icalendar-ruby
CALSCALE:GREGORIAN
BEGIN:VTIMEZONE
TZID:Europe/Berlin
BEGIN:DAYLIGHT
DTSTART:20240331T030000
TZOFFSETFROM:+0100
TZOFFSETTO:+0200
RRULE:FREQ=YEARLY;BYDAY=-1SU;BYMONTH=3
TZNAME:CEST
END:DAYLIGHT
BEGIN:STANDARD
DTSTART:20231029T020000
TZOFFSETFROM:+0200
TZOFFSETTO:+0100
RRULE:FREQ=YEARLY;BYDAY=-1SU;BYMONTH=10
TZNAME:CET
END:STANDARD
END:VTIMEZONE
BEGIN:VEVENT
DTSTAMP:20260422T090054Z
UID:ym38Dg
DTSTART;VALUE=DATE:20240312
DTEND;VALUE=DATE:20240313
CLASS:PUBLIC
CREATED:20231106T045244
DESCRIPTION: Comedian Elena Gabrielle is back with a bang in her new comedy
  show "Ok!?" where she challenges her audience to answer one simple questi
 on - are you okay? Are WE ok?! \n\n Run time approx 60-75 minutes. \n\n No
 t sure what to expect\, watch one of Elena's stories on Youtube:\nwww.yout
 ube.com/elenagabrielle🥳 \n
LAST-MODIFIED:20240903T180447
LOCATION:Theater am Olgaeck\, Charlottenstraße 44\, 70182 Stuttgart\, Germ
 any
ORGANIZER:mailto:hello@elenagabrielle.com
SUMMARY:Elena Gabrielle - Ok!? - Live in Stuttgart
URL;VALUE=URI:https://ti.to/elenagabriellecomedy/elena-gabrielle-ok-live-in
 -stuttgart
URL;VALUE=URI:https://ti.to/elenagabriellecomedy/elena-gabrielle-ok-live-in
 -stuttgart
END:VEVENT
END:VCALENDAR
