BEGIN:VCALENDAR
VERSION:2.0
PRODID:icalendar-ruby
CALSCALE:GREGORIAN
BEGIN:VTIMEZONE
TZID:Europe/Zurich
BEGIN:DAYLIGHT
DTSTART:20260329T030000
TZOFFSETFROM:+0100
TZOFFSETTO:+0200
RRULE:FREQ=YEARLY;BYDAY=-1SU;BYMONTH=3
TZNAME:CEST
END:DAYLIGHT
BEGIN:STANDARD
DTSTART:20251026T020000
TZOFFSETFROM:+0200
TZOFFSETTO:+0100
RRULE:FREQ=YEARLY;BYDAY=-1SU;BYMONTH=10
TZNAME:CET
END:STANDARD
END:VTIMEZONE
BEGIN:VEVENT
DTSTAMP:20260421T174857Z
UID:l6oTwg
DTSTART;TZID=Europe/Zurich:20251106T193000
DTEND;TZID=Europe/Zurich:20251106T210000
CLASS:PUBLIC
CREATED:20250729T144539
DESCRIPTION: Elena Gabrielle—international comedy queen\, chaos merchant\
 , and all-around vibe saboteur—is back with her vibey-iest show yet: “
 Disturb the Vibe" \n\n Get ready for vibe checks\, vibe confessions\, and 
 vibe revelations as Elena Gabrielle flips the script\, disturbs the vibe\,
  and leaves you questioning everything you thought you knew about relation
 ships\, stereotypes\, and the legacies we leave behind. \n\n It’s time t
 o embrace the chaos. \n\n Run time approx 60-75 minutes. \n\n Not sure wha
 t to expect\, watch one of Elena's stories on Youtube:\nwww.youtube.com/el
 enagabrielle \n
LAST-MODIFIED:20250914T165638
LOCATION:Comedy Clubhouse Zurich\, Freieckgasse 9\, 8001 Zürich\, Switzerl
 and
ORGANIZER:mailto:hello@elenagabrielle.com
SUMMARY:Elena Gabrielle - Disturb the Vibe - Zurich
URL;VALUE=URI:https://ti.to/elenagabriellecomedy/elena-gabrielle-disturb-th
 e-vibe-zurich
URL;VALUE=URI:https://ti.to/elenagabriellecomedy/elena-gabrielle-disturb-th
 e-vibe-zurich
END:VEVENT
END:VCALENDAR
