BEGIN:VCALENDAR
VERSION:2.0
PRODID:icalendar-ruby
CALSCALE:GREGORIAN
BEGIN:VEVENT
DTSTAMP:20260422T144656Z
UID:xUHMBA
DTSTART;VALUE=DATE:20191022
DTEND;VALUE=DATE:20191023
CLASS:PUBLIC
CREATED:20190911T020344
DESCRIPTION: Ever built a website? Did it have more than one page? If it di
 d\, you learned quickly how essential routing is to the success of your pr
 oject. And in so many frameworks routing is a painful and complex thing to
  learn. But not in Vue! Vue has an incredibly clean and powerful library c
 alled vue-router that takes care of everything you could need. \n\n In thi
 s workshop\, we'll cover what you need to know to get started with vue-rou
 ter. This includes: \n\n \n router set up \n route creation \n router link
  creation \n subroutes \n creating a default route \n metadata \n creating
  a navigation guard \n \n\n Join in on the fun and level up your knowledge
  of this fundamental set of Vue features! \n
LAST-MODIFIED:20191020T191712
LOCATION:Zoom
ORGANIZER:mailto:support@egghead.io
SUMMARY:🚌 A Journey  with Vue-Router with Laurie Barth
URL;VALUE=URI:https://ti.to/egghead-live-online-events/a-journey-with-vue-r
 outer-with-laurie-barth-2019-10-22
URL;VALUE=URI:https://ti.to/egghead-live-online-events/a-journey-with-vue-r
 outer-with-laurie-barth-2019-10-22
END:VEVENT
END:VCALENDAR
