BEGIN:VCALENDAR
VERSION:2.0
PRODID:icalendar-ruby
CALSCALE:GREGORIAN
BEGIN:VTIMEZONE
TZID:Europe/Brussels
BEGIN:DAYLIGHT
DTSTART:20250330T030000
TZOFFSETFROM:+0100
TZOFFSETTO:+0200
RRULE:FREQ=YEARLY;BYDAY=-1SU;BYMONTH=3
TZNAME:CEST
END:DAYLIGHT
BEGIN:STANDARD
DTSTART:20251026T020000
TZOFFSETFROM:+0200
TZOFFSETTO:+0100
RRULE:FREQ=YEARLY;BYDAY=-1SU;BYMONTH=10
TZNAME:CET
END:STANDARD
END:VTIMEZONE
BEGIN:VEVENT
DTSTAMP:20260421T083130Z
UID:dgY4jw
DTSTART;TZID=Europe/Brussels:20250618T100000
DTEND;TZID=Europe/Brussels:20250618T173000
CLASS:PUBLIC
CREATED:20250317T154851
DESCRIPTION: Join the SEADE R&amp\;I Summit in Barakaldo for a leading gath
 ering of researchers\, innovators\, and key stakeholders from Africa and E
 urope. \n\n  \nBy EBN \n
LAST-MODIFIED:20260129T101759
LOCATION:Barakaldo\, Spain
ORGANIZER:mailto:events@ebn.eu
SUMMARY:SEADE R&I SUMMIT
URL;VALUE=URI:https://ti.to/ebn/seade-ri-summit
URL;VALUE=URI:https://ti.to/ebn/seade-ri-summit
END:VEVENT
END:VCALENDAR
