BEGIN:VCALENDAR
VERSION:2.0
PRODID:icalendar-ruby
CALSCALE:GREGORIAN
BEGIN:VEVENT
DTSTAMP:20260422T085618Z
UID:BHVK4g
DTSTART;VALUE=DATE:20230216
DTEND;VALUE=DATE:20230218
CLASS:PUBLIC
CREATED:20221129T153736
DESCRIPTION: Participate in this gathering of Europe’s most active impact
  investors and stakeholders in the DeepTech sector. This two-in-one event 
 will emphasize networking and best practice sharing about impact investing
  across industries like textile\, aerospace technologies\, and advanced ma
 nufacturing. Additionally\, *10 innovative projects *with the potential of
  shaping the future will be presented during a pitching competition. The e
 vent will take place at the impressive World Trade Center in Barcelona\, S
 pain. \n\n Agenda \n\n Download the agenda (PDF\, updated on Feb. 14th) \n
LAST-MODIFIED:20251105T103342
LOCATION:Barcelona\, Spain
ORGANIZER:mailto:noreply-calendar@tito.io
SUMMARY:EBAN Impact Summit | Galactica Final Event
URL;VALUE=URI:https://ti.to/eban/eban-impact-summit-galactica-final-event
URL;VALUE=URI:https://ti.to/eban/eban-impact-summit-galactica-final-event
END:VEVENT
END:VCALENDAR
