BEGIN:VCALENDAR
VERSION:2.0
PRODID:icalendar-ruby
CALSCALE:GREGORIAN
BEGIN:VEVENT
DTSTAMP:20260420T083645Z
UID:8YHPsw
DTSTART:20260325T083000
DTEND:20260325T093000
CLASS:PUBLIC
CREATED:20260127T161559
DESCRIPTION: Date: Wednesday 25th March 2026 \n\n Location: Gaffney Room &a
 mp\; Online \n\n Start time: 8.30am - A light breakfast will be served fro
 m 8am \n\n Speakers: \n\n Kiwana Ennis BL \n\n This seminar will give an o
 verview of the law on protected disclosure injunctions including a review 
 of recent case law and the approach of the Courts. \n\n 1 CPD Point applie
 s. \n\n Member Only Event. \n\n \n\n Accessibility Requirements: At the Ba
 r of Ireland we wish for our events to be as welcoming\, accessible and in
 clusive for all. Please provide us if comfortable with any accessibility r
 elated considerations so that we can endeavour to ensure a\nbarrier free e
 xperience during the event. Please note the Gaffney Room is not accessible
  via Wheelchair. Email events@lawlibrary.ie to discuss your needs. \n
LAST-MODIFIED:20260324T095920
LOCATION:Gaffney Room & Online
ORGANIZER:mailto:employmentbar@lawlibrary.ie
SUMMARY:EBA Breakfast Briefing: Protected Disclosure Injunctions
URL;VALUE=URI:https://ti.to/eba/cpd-25thmar26
URL;VALUE=URI:https://ti.to/eba/cpd-25thmar26
END:VEVENT
END:VCALENDAR
