BEGIN:VCALENDAR
VERSION:2.0
PRODID:icalendar-ruby
CALSCALE:GREGORIAN
BEGIN:VEVENT
DTSTAMP:20260421T102702Z
UID:q2jWJw
DTSTART:20260218T161500
DTEND:20260218T171500
CLASS:PUBLIC
CREATED:20260211T093706
DESCRIPTION: Date: Wednesday 18th February \n\n Location: Online Only \n\n 
 Start time: 4.15pm \n\n Speakers: \n\n Dr Lauren Kierans BL \n\n Vigjilenc
 a Abazi \n\n Kafteranis Dimitrios \n\n  \n1 CPD Point applies. \n\n Member
  Only Event. \n\n \n\n Accessibility Requirements: At the Bar of Ireland w
 e wish for our events to be as welcoming\, accessible and inclusive for al
 l. Please provide us if comfortable with any accessibility related conside
 rations so that we can endeavour to ensure a\nbarrier free experience duri
 ng the event. Email events@lawlibrary.ie to discuss your needs. \n
LAST-MODIFIED:20260211T094308
LOCATION:Online
ORGANIZER:mailto:employmentbar@lawlibrary.ie
SUMMARY:EBA Briefing: EU Whistleblowing Directive (Online Only)
URL;VALUE=URI:https://ti.to/eba/cpd-18thfeb2026
URL;VALUE=URI:https://ti.to/eba/cpd-18thfeb2026
END:VEVENT
END:VCALENDAR
